Workbook

Sheet Rekapitulácia stavby
A1: Export Komplet | BA1: 2.0 | BT1: False | BU1: False | BV1: {e82fe8e3-93f7-44d1-91c5-14430f52eb5f}
AR2: >> skryté stĺpce << | BS2: 0,01 | BT2: 20
BS3: 0,01 | BT3: 20
D4: REKAPITULÁCIA STAVBY | AS4: v --- nižšie sa nachádzajú doplnkové a pomocné údaje k zostavám --- v | BS4: 0,001
D5: Kód: | K5: 1 | BS5: 0,01
D6: Stavba: | K6: Kópia - 20240118 - Stavebné úpravy priestorov kultúrneho domu | BS6: 0,01
D7: JKSO: | AK7: KS: | BS7: 0,01
D8: Miesto: | AK8: Dátum: | AN8: 45646 | BS8: 0,01
BS9: 0,01
D10: Objednávateľ: | AK10: IČO: | BS10: 0,01
AK11: IČ DPH: | BS11: 0,01
BS12: 0,01
D13: Zhotoviteľ: | AK13: IČO: | AN13: 46114696 | BS13: 0,01
E14: BETA FOUR s.r.o. | AK14: IČ DPH: | AN14: SK2023241880 | BS14: 0,01
BS15: False
D16: Projektant: | AK16: IČO: | BS16: False
AK17: IČ DPH: | BS17: True
BS18: 0,01
D19: Spracovateľ: | AK19: IČO: | BS19: 0,01
E20: Peter Lesák | AK20: IČ DPH: | BS20: True
D22: Poznámka:
D26: Cena bez DPH | AK26: =ROUND(AG94,2) -> 44224.11
L28: Sadzba dane | W28: Základ dane | AK28: Výška dane
D29: DPH | F29: základná | L29: 0.2 | W29: =ROUND(AZ94, 2) -> 0 | AK29: =ROUND(AV94, 2) -> 0
F30: znížená | L30: 0.2 | W30: =ROUND(BA94, 2) -> 44224.11 | AK30: =ROUND(AW94, 2) -> 8844.82
F31: zákl. prenesená | L31: 0.2 | W31: =ROUND(BB94, 2) -> 0 | AK31: 0
F32: zníž. prenesená | L32: 0.2 | W32: =ROUND(BC94, 2) -> 0 | AK32: 0
F33: nulová | L33: 0 | W33: =ROUND(BD94, 2) -> 0 | AK33: 0
D35: Cena s DPH | T35: v | X35: EUR | AK35: =SUM(AK26:AK33) -> 53068.93
D49: Projektant | AH49: Spracovateľ
D60: Dátum a podpis: | V60: Pečiatka | AH60: Dátum a podpis: | AM60: Pečiatka
D64: Objednávateľ | AH64: Zhotoviteľ
D75: Dátum a podpis: | V75: Pečiatka | AH75: Dátum a podpis: | AM75: Pečiatka
C82: REKAPITULÁCIA OBJEKTOV STAVBY
C84: Kód: | L84: =K5 -> 1
C85: Stavba: | L85: =K6 -> Kópia - 20240118 - Stavebné úpravy priestorov kultúrneho domu
C87: Miesto: | L87: =IF(K8="","",K8) | AI87: Dátum: | AM87: =IF(AN8= "","",AN8) -> 45646
C89: Objednávateľ: | L89: =IF(E11= "","",E11) | AI89: Projektant: | AM89: =IF(E17="","",E17) | AS89: Informatívne údaje z listov zákaziek
C90: Zhotoviteľ: | L90: =IF(E14="","",E14) -> BETA FOUR s.r.o. | AI90: Spracovateľ: | AM90: =IF(E20="","",E20) -> Peter Lesák
C92: Kód | I92: Popis | AG92: Cena bez DPH [EUR] | AN92: Cena s DPH [EUR] | AQ92: Typ | AS92: z toho Ostat._x000D_ náklady [EUR] | AT92: DPH [EUR] | AU92: Normohodiny [h] | AV92: DPH základná [EUR] | AW92: DPH znížená [EUR] | AX92: DPH základná prenesená_x000D_ [EUR] | AY92: DPH znížená prenesená_x000D_ [EUR] | AZ92: Základňa_x000D_ DPH základná | BA92: Základňa_x000D_ DPH znížená | BB92: Základňa_x000D_ DPH zákl. prenesená | BC92: Základňa_x000D_ DPH zníž. prenesená | BD92: Základňa_x000D_ DPH nulová
C94: Náklady z rozpočtov | AG94: =ROUND(SUM(AG95:AG98),2) -> 44224.11 | AN94: =SUM(AG94,AT94) -> 53068.93 | AS94: =ROUND(SUM(AS95:AS98),2) -> 0 | AT94: =ROUND(SUM(AV94:AW94),2) -> 8844.82 | AU94: =ROUND(SUM(AU95:AU98),5) -> 4.07417 | AV94: =ROUND(AZ94*L29,2) -> 0 | AW94: =ROUND(BA94*L30,2) -> 8844.82 | AX94: =ROUND(BB94*L29,2) -> 0 | AY94: =ROUND(BC94*L30,2) -> 0 | AZ94: =ROUND(SUM(AZ95:AZ98),2) -> 0 | BA94: =ROUND(SUM(BA95:BA98),2) -> 44224.11 | BB94: =ROUND(SUM(BB95:BB98),2) -> 0 | BC94: =ROUND(SUM(BC95:BC98),2) -> 0 | BD94: =ROUND(SUM(BD95:BD98),2) -> 0 | BS94: D | BT94: 0 | BU94: ###NOIMPORT### | BV94: IMPORT | BW94: {e82fe8e3-93f7-44d1-91c5-14430f52eb5f} | BX94: {00000000-0000-0000-0000-000000000000}
A95: / | D95: 1 | J95: Keramická dlažba podláh | AG95: ='1 - Keramická dlažba podláh'!J30 -> 17634.73 | AN95: =SUM(AG95,AT95) -> 21161.68 | AQ95: STA | AS95: 0 | AT95: =ROUND(SUM(AV95:AW95),2) -> 3526.95 | AU95: ='1 - Keramická dlažba podláh'!P124 -> 0 | AV95: ='1 - Keramická dlažba podláh'!J33 -> 0 | AW95: ='1 - Keramická dlažba podláh'!J34 -> 3526.95 | AX95: ='1 - Keramická dlažba podláh'!J35 -> 0 | AY95: ='1 - Keramická dlažba podláh'!J36 -> 0 | AZ95: ='1 - Keramická dlažba podláh'!F33 -> 0 | BA95: ='1 - Keramická dlažba podláh'!F34 -> 17634.73 | BB95: ='1 - Keramická dlažba podláh'!F35 -> 0 | BC95: ='1 - Keramická dlažba podláh'!F36 -> 0 | BD95: ='1 - Keramická dlažba podláh'!F37 -> 0 | BT95: 1 | BV95: IMPORT | BW95: {123bd8d8-c54f-4560-8249-cce76675b722} | BX95: {e82fe8e3-93f7-44d1-91c5-14430f52eb5f} | CM95: 0
A96: / | D96: 2 | J96: Vnútorné priečky a úp... | AG96: ='2 - Vnútorné priečky a úp...'!J30 -> 2926.3 | AN96: =SUM(AG96,AT96) -> 3511.56 | AQ96: STA | AS96: 0 | AT96: =ROUND(SUM(AV96:AW96),2) -> 585.26 | AU96: ='2 - Vnútorné priečky a úp...'!P124 -> 0 | AV96: ='2 - Vnútorné priečky a úp...'!J33 -> 0 | AW96: ='2 - Vnútorné priečky a úp...'!J34 -> 585.26 | AX96: ='2 - Vnútorné priečky a úp...'!J35 -> 0 | AY96: ='2 - Vnútorné priečky a úp...'!J36 -> 0 | AZ96: ='2 - Vnútorné priečky a úp...'!F33 -> 0 | BA96: ='2 - Vnútorné priečky a úp...'!F34 -> 2926.3 | BB96: ='2 - Vnútorné priečky a úp...'!F35 -> 0 | BC96: ='2 - Vnútorné priečky a úp...'!F36 -> 0 | BD96: ='2 - Vnútorné priečky a úp...'!F37 -> 0 | BT96: 1 | BV96: IMPORT | BW96: {0f61ca30-6652-4ee3-bcf7-f6b6ae6efd4e} | BX96: {e82fe8e3-93f7-44d1-91c5-14430f52eb5f} | CM96: 0
A97: / | D97: 3 | J97: Úprava sociálnych zar... | AG97: ='3 - Úprava sociálnych zar...'!J30 -> 17671.18 | AN97: =SUM(AG97,AT97) -> 21205.42 | AQ97: STA | AS97: 0 | AT97: =ROUND(SUM(AV97:AW97),2) -> 3534.24 | AU97: ='3 - Úprava sociálnych zar...'!P129 -> 0 | AV97: ='3 - Úprava sociálnych zar...'!J33 -> 0 | AW97: ='3 - Úprava sociálnych zar...'!J34 -> 3534.24 | AX97: ='3 - Úprava sociálnych zar...'!J35 -> 0 | AY97: ='3 - Úprava sociálnych zar...'!J36 -> 0 | AZ97: ='3 - Úprava sociálnych zar...'!F33 -> 0 | BA97: ='3 - Úprava sociálnych zar...'!F34 -> 17671.18 | BB97: ='3 - Úprava sociálnych zar...'!F35 -> 0 | BC97: ='3 - Úprava sociálnych zar...'!F36 -> 0 | BD97: ='3 - Úprava sociálnych zar...'!F37 -> 0 | BT97: 1 | BV97: IMPORT | BW97: {42203da9-c2a8-4c52-a7cb-1146dc8a5e5c} | BX97: {e82fe8e3-93f7-44d1-91c5-14430f52eb5f} | CM97: 0
A98: / | D98: 4 | J98: Zdravotechnika | AG98: ='4 - Zdravotechnika'!J30 -> 5991.9 | AN98: =SUM(AG98,AT98) -> 7190.28 | AQ98: STA | AS98: 0 | AT98: =ROUND(SUM(AV98:AW98),2) -> 1198.38 | AU98: ='4 - Zdravotechnika'!P124 -> 4.07417 | AV98: ='4 - Zdravotechnika'!J33 -> 0 | AW98: ='4 - Zdravotechnika'!J34 -> 1198.38 | AX98: ='4 - Zdravotechnika'!J35 -> 0 | AY98: ='4 - Zdravotechnika'!J36 -> 0 | AZ98: ='4 - Zdravotechnika'!F33 -> 0 | BA98: ='4 - Zdravotechnika'!F34 -> 5991.9 | BB98: ='4 - Zdravotechnika'!F35 -> 0 | BC98: ='4 - Zdravotechnika'!F36 -> 0 | BD98: ='4 - Zdravotechnika'!F37 -> 0 | BT98: 1 | BV98: IMPORT | BW98: {df5aeaa3-b9a3-4d93-94ef-42911a3636c2} | BX98: {e82fe8e3-93f7-44d1-91c5-14430f52eb5f} | CM98: 0

Sheet 1 - Keramická dlažba podláh
L2: >> skryté stĺpce << | AT2: {123bd8d8-c54f-4560-8249-cce76675b722}
AT3: 0
D4: KRYCÍ LIST ROZPOČTU | M4: v --- nižšie sa nachádzajú doplnkové a pomocné údaje k zostavám --- v | AT4: False
D6: Stavba:
E7: ='Rekapitulácia stavby'!K6 -> Kópia - 20240118 - Stavebné úpravy priestorov kultúrneho domu
D8: Objekt:
E9: 1 - Keramická dlažba podláh
D11: JKSO: | I11: KS:
D12: Miesto: | I12: Dátum: | J12: ='Rekapitulácia stavby'!AN8 -> 45646
D14: Objednávateľ: | I14: IČO: | J14: =IF('Rekapitulácia stavby'!AN10="","",'Rekapitulácia stavby'!AN10)
E15: =IF('Rekapitulácia stavby'!E11="","",'Rekapitulácia stavby'!E11) | I15: IČ DPH: | J15: =IF('Rekapitulácia stavby'!AN11="","",'Rekapitulácia stavby'!AN11)
D17: Zhotoviteľ: | I17: IČO: | J17: ='Rekapitulácia stavby'!AN13 -> 46114696
E18: ='Rekapitulácia stavby'!E14 -> BETA FOUR s.r.o. | I18: IČ DPH: | J18: ='Rekapitulácia stavby'!AN14 -> SK2023241880
D20: Projektant: | I20: IČO: | J20: =IF('Rekapitulácia stavby'!AN16="","",'Rekapitulácia stavby'!AN16)
E21: =IF('Rekapitulácia stavby'!E17="","",'Rekapitulácia stavby'!E17) | I21: IČ DPH: | J21: =IF('Rekapitulácia stavby'!AN17="","",'Rekapitulácia stavby'!AN17)
D23: Spracovateľ: | I23: IČO: | J23: =IF('Rekapitulácia stavby'!AN19="","",'Rekapitulácia stavby'!AN19)
E24: =IF('Rekapitulácia stavby'!E20="","",'Rekapitulácia stavby'!E20) -> Peter Lesák | I24: IČ DPH: | J24: =IF('Rekapitulácia stavby'!AN20="","",'Rekapitulácia stavby'!AN20)
D26: Poznámka:
D30: Cena bez DPH | J30: =ROUND(J124, 2) -> 17634.73
F32: Základ dane | I32: Sadzba dane | J32: Výška dane
D33: DPH | E33: základná | F33: =ROUND((SUM(BE124:BE147)), 2) -> 0 | I33: 0.2 | J33: =ROUND(((SUM(BE124:BE147))*I33), 2) -> 0
E34: znížená | F34: =ROUND((SUM(BF124:BF147)), 2) -> 17634.73 | I34: 0.2 | J34: =ROUND(((SUM(BF124:BF147))*I34), 2) -> 3526.95
E35: zákl. prenesená | F35: =ROUND((SUM(BG124:BG147)), 2) -> 0 | I35: 0.2 | J35: =0 -> 0
E36: zníž. prenesená | F36: =ROUND((SUM(BH124:BH147)), 2) -> 0 | I36: 0.2 | J36: =0 -> 0
E37: nulová | F37: =ROUND((SUM(BI124:BI147)), 2) -> 0 | I37: 0 | J37: =0 -> 0
D39: Cena s DPH | G39: v | H39: EUR | J39: =SUM(J30:J37) -> 21161.68
D50: Projektant | G50: Spracovateľ
D61: Dátum a podpis: | F61: Pečiatka | G61: Dátum a podpis: | J61: Pečiatka
D65: Objednávateľ | G65: Zhotoviteľ
D76: Dátum a podpis: | F76: Pečiatka | G76: Dátum a podpis: | J76: Pečiatka
C82: REKAPITULÁCIA ROZPOČTU
C84: Stavba:
E85: =E7 -> Kópia - 20240118 - Stavebné úpravy priestorov kultúrneho domu
C86: Objekt:
E87: =E9 -> 1 - Keramická dlažba podláh
C89: Miesto: | F89: =F12 | I89: Dátum: | J89: =IF(J12="","",J12) -> 45646
C91: Objednávateľ: | F91: =E15 | I91: Projektant: | J91: =E21
C92: Zhotoviteľ: | F92: =IF(E18="","",E18) -> BETA FOUR s.r.o. | I92: Spracovateľ: | J92: =E24 -> Peter Lesák
C94: Kód dielu - Popis | J94: Cena celkom [EUR]
C96: Náklady z rozpočtu | J96: =J124 -> 17634.73 | AU96: -1
D97: HSV - Práce a dodávky HSV | J97: =J125 -> 4930.02
D98: 6 - Úpravy povrchov, podlahy, osadenie | J98: =J126 -> 4844.77
D99: 99 - Presun hmôt HSV | J99: =J133 -> 85.25
D100: PSV - Práce a dodávky PSV | J100: =J135 -> 10544.71
D101: 771 - Podlahy z dlaždíc | J101: =J136 -> 10094.89
D102: 781 - Obklady | J102: =J141 -> 449.82
D103: M - Práce a dodávky M | J103: =J145 -> 2160
D104: 21-M - Elektromontáže | J104: =J146 -> 2160
C111: ROZPOČET
C113: Stavba:
E114: =E7 -> Kópia - 20240118 - Stavebné úpravy priestorov kultúrneho domu
C115: Objekt:
E116: =E9 -> 1 - Keramická dlažba podláh
C118: Miesto: | F118: =F12 | I118: Dátum: | J118: =IF(J12="","",J12) -> 45646
C120: Objednávateľ: | F120: =E15 | I120: Projektant: | J120: =E21
C121: Zhotoviteľ: | F121: =IF(E18="","",E18) -> BETA FOUR s.r.o. | I121: Spracovateľ: | J121: =E24 -> Peter Lesák
C123: PČ | D123: Typ | E123: Kód | F123: Popis | G123: MJ | H123: Množstvo | I123: J.cena [EUR] | J123: Cena celkom [EUR] | K123: Cenová sústava | N123: DPH | O123: J. Nh [h] | P123: Nh celkom [h] | Q123: J. hmotnosť [t] | R123: Hmotnosť celkom [t] | S123: J. suť [t] | T123: Suť Celkom [t]
C124: Náklady z rozpočtu | J124: =BK124 -> 17634.73 | P124: =P125+P135+P145 -> 0 | R124: =R125+R135+R145 -> 0 | T124: =T125+T135+T145 -> 0 | AT124: D | AU124: -1 | BK124: =BK125+BK135+BK145 -> 17634.73
D125: D | E125: HSV | F125: Práce a dodávky HSV | J125: =BK125 -> 4930.02 | P125: =P126+P133 -> 0 | R125: =R126+R133 -> 0 | T125: =T126+T133 -> 0 | AR125: 1 | AT125: D | AU125: 0 | AY125: ROZPOCET | BK125: =BK126+BK133 -> 4930.02
D126: D | E126: 6 | F126: Úpravy povrchov, podlahy, osadenie | J126: =BK126 -> 4844.77 | P126: =SUM(P127:P132) -> 0 | R126: =SUM(R127:R132) -> 0 | T126: =SUM(T127:T132) -> 0 | AR126: 1 | AT126: D | AU126: 1 | AY126: ROZPOCET | BK126: =SUM(BK127:BK132) -> 4844.77
C127: 1 | D127: K | E127: 632001051.S | F127: Zhotovenie jednonásobného penetračného náteru pre potery a stierky | G127: m2 | H127: 194.827 | I127: 0.74 | J127: =ROUND(I127*H127,2) -> 144.17 | N127: znížená | O127: 0 | P127: =O127*H127 -> 0 | Q127: 0 | R127: =Q127*H127 -> 0 | S127: 0 | T127: =S127*H127 -> 0 | AR127: 4 | AT127: K | AU127: 2 | AY127: ROZPOCET | BE127: =IF(N127="základná",J127,0) -> 0 | BF127: =IF(N127="znížená",J127,0) -> 144.17 | BG127: =IF(N127="zákl. prenesená",J127,0) -> 0 | BH127: =IF(N127="zníž. prenesená",J127,0) -> 0 | BI127: =IF(N127="nulová",J127,0) -> 0 | BJ127: 2 | BK127: =ROUND(I127*H127,2) -> 144.17 | BL127: 4 | BM127: 2
C128: 2 | D128: M | E128: 082110000200.S | F128: Voda pitná pre priemysel a služby | G128: m3 | H128: 126.638 | I128: 1.2 | J128: =ROUND(I128*H128,2) -> 151.97 | N128: znížená | O128: 0 | P128: =O128*H128 -> 0 | Q128: 0 | R128: =Q128*H128 -> 0 | S128: 0 | T128: =S128*H128 -> 0 | AR128: 8 | AT128: M | AU128: 2 | AY128: ROZPOCET | BE128: =IF(N128="základná",J128,0) -> 0 | BF128: =IF(N128="znížená",J128,0) -> 151.97 | BG128: =IF(N128="zákl. prenesená",J128,0) -> 0 | BH128: =IF(N128="zníž. prenesená",J128,0) -> 0 | BI128: =IF(N128="nulová",J128,0) -> 0 | BJ128: 2 | BK128: =ROUND(I128*H128,2) -> 151.97 | BL128: 4 | BM128: 4
C129: 3 | D129: M | E129: 585520008700.S | F129: Penetračný náter na nasiakavé podklady pod potery, samonivelizačné hmoty a stavebné lepidlá | G129: kg | H129: 68.189 | I129: 5.22 | J129: =ROUND(I129*H129,2) -> 355.95 | N129: znížená | O129: 0 | P129: =O129*H129 -> 0 | Q129: 0 | R129: =Q129*H129 -> 0 | S129: 0 | T129: =S129*H129 -> 0 | AR129: 8 | AT129: M | AU129: 2 | AY129: ROZPOCET | BE129: =IF(N129="základná",J129,0) -> 0 | BF129: =IF(N129="znížená",J129,0) -> 355.95 | BG129: =IF(N129="zákl. prenesená",J129,0) -> 0 | BH129: =IF(N129="zníž. prenesená",J129,0) -> 0 | BI129: =IF(N129="nulová",J129,0) -> 0 | BJ129: 2 | BK129: =ROUND(I129*H129,2) -> 355.95 | BL129: 4 | BM129: 6
C130: 4 | D130: K | E130: 632452644.S | F130: Cementová samonivelizačná stierka, pevnosti v tlaku 25 MPa, hr. 5 mm | G130: m2 | H130: 194.827 | I130: 14.24 | J130: =ROUND(I130*H130,2) -> 2774.34 | N130: znížená | O130: 0 | P130: =O130*H130 -> 0 | Q130: 0 | R130: =Q130*H130 -> 0 | S130: 0 | T130: =S130*H130 -> 0 | AR130: 4 | AT130: K | AU130: 2 | AY130: ROZPOCET | BE130: =IF(N130="základná",J130,0) -> 0 | BF130: =IF(N130="znížená",J130,0) -> 2774.34 | BG130: =IF(N130="zákl. prenesená",J130,0) -> 0 | BH130: =IF(N130="zníž. prenesená",J130,0) -> 0 | BI130: =IF(N130="nulová",J130,0) -> 0 | BJ130: 2 | BK130: =ROUND(I130*H130,2) -> 2774.34 | BL130: 4 | BM130: 8
C131: 5 | D131: K | E131: 776990105.S | F131: Vysávanie podkladu pred kladením samonivelačnej hmoty | G131: m2 | H131: 194.827 | I131: 1.48 | J131: =ROUND(I131*H131,2) -> 288.34 | N131: znížená | O131: 0 | P131: =O131*H131 -> 0 | Q131: 0 | R131: =Q131*H131 -> 0 | S131: 0 | T131: =S131*H131 -> 0 | AR131: 4 | AT131: K | AU131: 2 | AY131: ROZPOCET | BE131: =IF(N131="základná",J131,0) -> 0 | BF131: =IF(N131="znížená",J131,0) -> 288.34 | BG131: =IF(N131="zákl. prenesená",J131,0) -> 0 | BH131: =IF(N131="zníž. prenesená",J131,0) -> 0 | BI131: =IF(N131="nulová",J131,0) -> 0 | BJ131: 2 | BK131: =ROUND(I131*H131,2) -> 288.34 | BL131: 4 | BM131: 10
C132: 6 | D132: K | E132: 776992200.S | F132: Príprava podkladu prebrúsením strojne brúskou na betón | G132: m2 | H132: 194.827 | I132: 5.8 | J132: =ROUND(I132*H132,2) -> 1130 | N132: znížená | O132: 0 | P132: =O132*H132 -> 0 | Q132: 0 | R132: =Q132*H132 -> 0 | S132: 0 | T132: =S132*H132 -> 0 | AR132: 4 | AT132: K | AU132: 2 | AY132: ROZPOCET | BE132: =IF(N132="základná",J132,0) -> 0 | BF132: =IF(N132="znížená",J132,0) -> 1130 | BG132: =IF(N132="zákl. prenesená",J132,0) -> 0 | BH132: =IF(N132="zníž. prenesená",J132,0) -> 0 | BI132: =IF(N132="nulová",J132,0) -> 0 | BJ132: 2 | BK132: =ROUND(I132*H132,2) -> 1130 | BL132: 4 | BM132: 12
D133: D | E133: 99 | F133: Presun hmôt HSV | J133: =BK133 -> 85.25 | P133: =P134 -> 0 | R133: =R134 -> 0 | T133: =T134 -> 0 | AR133: 1 | AT133: D | AU133: 1 | AY133: ROZPOCET | BK133: =BK134 -> 85.25
C134: 15 | D134: K | E134: 999281111.S | F134: Presun hmôt pre opravy a údržbu objektov vrátane vonkajších plášťov výšky do 25 m | G134: t | H134: 1.757 | I134: 48.52 | J134: =ROUND(I134*H134,2) -> 85.25 | N134: znížená | O134: 0 | P134: =O134*H134 -> 0 | Q134: 0 | R134: =Q134*H134 -> 0 | S134: 0 | T134: =S134*H134 -> 0 | AR134: 4 | AT134: K | AU134: 2 | AY134: ROZPOCET | BE134: =IF(N134="základná",J134,0) -> 0 | BF134: =IF(N134="znížená",J134,0) -> 85.25 | BG134: =IF(N134="zákl. prenesená",J134,0) -> 0 | BH134: =IF(N134="zníž. prenesená",J134,0) -> 0 | BI134: =IF(N134="nulová",J134,0) -> 0 | BJ134: 2 | BK134: =ROUND(I134*H134,2) -> 85.25 | BL134: 4 | BM134: 14
D135: D | E135: PSV | F135: Práce a dodávky PSV | J135: =BK135 -> 10544.71 | P135: =P136+P141 -> 0 | R135: =R136+R141 -> 0 | T135: =T136+T141 -> 0 | AR135: 2 | AT135: D | AU135: 0 | AY135: ROZPOCET | BK135: =BK136+BK141 -> 10544.71
D136: D | E136: 771 | F136: Podlahy z dlaždíc | J136: =BK136 -> 10094.89 | P136: =SUM(P137:P140) -> 0 | R136: =SUM(R137:R140) -> 0 | T136: =SUM(T137:T140) -> 0 | AR136: 2 | AT136: D | AU136: 1 | AY136: ROZPOCET | BK136: =SUM(BK137:BK140) -> 10094.89
C137: 8 | D137: K | E137: 771411004.S | F137: Montáž soklíkov z obkladačiek do malty veľ. 300 x 80 mm | G137: m | H137: 82.12 | I137: 3.64 | J137: =ROUND(I137*H137,2) -> 298.92 | N137: znížená | O137: 0 | P137: =O137*H137 -> 0 | Q137: 0 | R137: =Q137*H137 -> 0 | S137: 0 | T137: =S137*H137 -> 0 | AR137: 16 | AT137: K | AU137: 2 | AY137: ROZPOCET | BE137: =IF(N137="základná",J137,0) -> 0 | BF137: =IF(N137="znížená",J137,0) -> 298.92 | BG137: =IF(N137="zákl. prenesená",J137,0) -> 0 | BH137: =IF(N137="zníž. prenesená",J137,0) -> 0 | BI137: =IF(N137="nulová",J137,0) -> 0 | BJ137: 2 | BK137: =ROUND(I137*H137,2) -> 298.92 | BL137: 16 | BM137: 16
C138: 9 | D138: K | E138: 771571112.S | F138: Montáž podláh z dlaždíc keramických do malty | G138: m2 | H138: 194.827 | I138: 23.54 | J138: =ROUND(I138*H138,2) -> 4586.23 | N138: znížená | O138: 0 | P138: =O138*H138 -> 0 | Q138: 0 | R138: =Q138*H138 -> 0 | S138: 0 | T138: =S138*H138 -> 0 | AR138: 16 | AT138: K | AU138: 2 | AY138: ROZPOCET | BE138: =IF(N138="základná",J138,0) -> 0 | BF138: =IF(N138="znížená",J138,0) -> 4586.23 | BG138: =IF(N138="zákl. prenesená",J138,0) -> 0 | BH138: =IF(N138="zníž. prenesená",J138,0) -> 0 | BI138: =IF(N138="nulová",J138,0) -> 0 | BJ138: 2 | BK138: =ROUND(I138*H138,2) -> 4586.23 | BL138: 16 | BM138: 18
C139: 10 | D139: M | E139: 597740001600.S | F139: Dlaždice keramické - podľa výberu investora | G139: m2 | H139: 221.537 | I139: 21.8 | J139: =ROUND(I139*H139,2) -> 4829.51 | N139: znížená | O139: 0 | P139: =O139*H139 -> 0 | Q139: 0 | R139: =Q139*H139 -> 0 | S139: 0 | T139: =S139*H139 -> 0 | AR139: 32 | AT139: M | AU139: 2 | AY139: ROZPOCET | BE139: =IF(N139="základná",J139,0) -> 0 | BF139: =IF(N139="znížená",J139,0) -> 4829.51 | BG139: =IF(N139="zákl. prenesená",J139,0) -> 0 | BH139: =IF(N139="zníž. prenesená",J139,0) -> 0 | BI139: =IF(N139="nulová",J139,0) -> 0 | BJ139: 2 | BK139: =ROUND(I139*H139,2) -> 4829.51 | BL139: 16 | BM139: 20
C140: 11 | D140: K | E140: 998771101.S | F140: Presun hmôt pre podlahy z dlaždíc v objektoch výšky do 6m | G140: t | H140: 12.85 | I140: 29.59 | J140: =ROUND(I140*H140,2) -> 380.23 | N140: znížená | O140: 0 | P140: =O140*H140 -> 0 | Q140: 0 | R140: =Q140*H140 -> 0 | S140: 0 | T140: =S140*H140 -> 0 | AR140: 16 | AT140: K | AU140: 2 | AY140: ROZPOCET | BE140: =IF(N140="základná",J140,0) -> 0 | BF140: =IF(N140="znížená",J140,0) -> 380.23 | BG140: =IF(N140="zákl. prenesená",J140,0) -> 0 | BH140: =IF(N140="zníž. prenesená",J140,0) -> 0 | BI140: =IF(N140="nulová",J140,0) -> 0 | BJ140: 2 | BK140: =ROUND(I140*H140,2) -> 380.23 | BL140: 16 | BM140: 22
D141: D | E141: 781 | F141: Obklady | J141: =BK141 -> 449.82 | P141: =SUM(P142:P144) -> 0 | R141: =SUM(R142:R144) -> 0 | T141: =SUM(T142:T144) -> 0 | AR141: 2 | AT141: D | AU141: 1 | AY141: ROZPOCET | BK141: =SUM(BK142:BK144) -> 449.82
C142: 12 | D142: K | E142: 781491013.S | F142: Montáž profilov pre obklad a dlažby do malty - dilatácia | G142: m | H142: 96.7 | I142: 1.15 | J142: =ROUND(I142*H142,2) -> 111.21 | N142: znížená | O142: 0 | P142: =O142*H142 -> 0 | Q142: 0 | R142: =Q142*H142 -> 0 | S142: 0 | T142: =S142*H142 -> 0 | AR142: 16 | AT142: K | AU142: 2 | AY142: ROZPOCET | BE142: =IF(N142="základná",J142,0) -> 0 | BF142: =IF(N142="znížená",J142,0) -> 111.21 | BG142: =IF(N142="zákl. prenesená",J142,0) -> 0 | BH142: =IF(N142="zníž. prenesená",J142,0) -> 0 | BI142: =IF(N142="nulová",J142,0) -> 0 | BJ142: 2 | BK142: =ROUND(I142*H142,2) -> 111.21 | BL142: 16 | BM142: 24
C143: 13 | D143: M | E143: 283410018500.S | F143: Profil dilatačný pre hr. dlaždíc 8-10 mm, šírka 6 mm | G143: m | H143: 97.667 | I143: 3.31 | J143: =ROUND(I143*H143,2) -> 323.28 | N143: znížená | O143: 0 | P143: =O143*H143 -> 0 | Q143: 0 | R143: =Q143*H143 -> 0 | S143: 0 | T143: =S143*H143 -> 0 | AR143: 32 | AT143: M | AU143: 2 | AY143: ROZPOCET | BE143: =IF(N143="základná",J143,0) -> 0 | BF143: =IF(N143="znížená",J143,0) -> 323.28 | BG143: =IF(N143="zákl. prenesená",J143,0) -> 0 | BH143: =IF(N143="zníž. prenesená",J143,0) -> 0 | BI143: =IF(N143="nulová",J143,0) -> 0 | BJ143: 2 | BK143: =ROUND(I143*H143,2) -> 323.28 | BL143: 16 | BM143: 26
C144: 14 | D144: K | E144: 998781101.S | F144: Presun hmôt pre obklady keramické v objektoch výšky do 6 m | G144: t | H144: 0.518 | I144: 29.59 | J144: =ROUND(I144*H144,2) -> 15.33 | N144: znížená | O144: 0 | P144: =O144*H144 -> 0 | Q144: 0 | R144: =Q144*H144 -> 0 | S144: 0 | T144: =S144*H144 -> 0 | AR144: 16 | AT144: K | AU144: 2 | AY144: ROZPOCET | BE144: =IF(N144="základná",J144,0) -> 0 | BF144: =IF(N144="znížená",J144,0) -> 15.33 | BG144: =IF(N144="zákl. prenesená",J144,0) -> 0 | BH144: =IF(N144="zníž. prenesená",J144,0) -> 0 | BI144: =IF(N144="nulová",J144,0) -> 0 | BJ144: 2 | BK144: =ROUND(I144*H144,2) -> 15.33 | BL144: 16 | BM144: 28
D145: D | E145: M | F145: Práce a dodávky M | J145: =BK145 -> 2160 | P145: =P146 -> 0 | R145: =R146 -> 0 | T145: =T146 -> 0 | AR145: 3 | AT145: D | AU145: 0 | AY145: ROZPOCET | BK145: =BK146 -> 2160
D146: D | E146: 21-M | F146: Elektromontáže | J146: =BK146 -> 2160 | P146: =P147 -> 0 | R146: =R147 -> 0 | T146: =T147 -> 0 | AR146: 3 | AT146: D | AU146: 1 | AY146: ROZPOCET | BK146: =BK147 -> 2160
C147: 16 | D147: K | E147: 210011230.S | F147: Zhotovenie elektroinštalácie ( rozvody, ističe,osvetlenie,prepoj) | G147: eur | H147: 2000 | I147: 1.08 | J147: =ROUND(I147*H147,2) -> 2160 | N147: znížená | O147: 0 | P147: =O147*H147 -> 0 | Q147: 0 | R147: =Q147*H147 -> 0 | S147: 0 | T147: =S147*H147 -> 0 | AR147: 64 | AT147: K | AU147: 2 | AY147: ROZPOCET | BE147: =IF(N147="základná",J147,0) -> 0 | BF147: =IF(N147="znížená",J147,0) -> 2160 | BG147: =IF(N147="zákl. prenesená",J147,0) -> 0 | BH147: =IF(N147="zníž. prenesená",J147,0) -> 0 | BI147: =IF(N147="nulová",J147,0) -> 0 | BJ147: 2 | BK147: =ROUND(I147*H147,2) -> 2160 | BL147: 64 | BM147: 30

Sheet 2 - Vnútorné priečky a úp...
L2: >> skryté stĺpce << | AT2: {0f61ca30-6652-4ee3-bcf7-f6b6ae6efd4e}
AT3: 0
D4: KRYCÍ LIST ROZPOČTU | M4: v --- nižšie sa nachádzajú doplnkové a pomocné údaje k zostavám --- v | AT4: False
D6: Stavba:
E7: ='Rekapitulácia stavby'!K6 -> Kópia - 20240118 - Stavebné úpravy priestorov kultúrneho domu
D8: Objekt:
E9: 2 - Vnútorné priečky a úp...
D11: JKSO: | I11: KS:
D12: Miesto: | I12: Dátum: | J12: ='Rekapitulácia stavby'!AN8 -> 45646
D14: Objednávateľ: | I14: IČO: | J14: =IF('Rekapitulácia stavby'!AN10="","",'Rekapitulácia stavby'!AN10)
E15: =IF('Rekapitulácia stavby'!E11="","",'Rekapitulácia stavby'!E11) | I15: IČ DPH: | J15: =IF('Rekapitulácia stavby'!AN11="","",'Rekapitulácia stavby'!AN11)
D17: Zhotoviteľ: | I17: IČO: | J17: ='Rekapitulácia stavby'!AN13 -> 46114696
E18: ='Rekapitulácia stavby'!E14 -> BETA FOUR s.r.o. | I18: IČ DPH: | J18: ='Rekapitulácia stavby'!AN14 -> SK2023241880
D20: Projektant: | I20: IČO: | J20: =IF('Rekapitulácia stavby'!AN16="","",'Rekapitulácia stavby'!AN16)
E21: =IF('Rekapitulácia stavby'!E17="","",'Rekapitulácia stavby'!E17) | I21: IČ DPH: | J21: =IF('Rekapitulácia stavby'!AN17="","",'Rekapitulácia stavby'!AN17)
D23: Spracovateľ: | I23: IČO: | J23: =IF('Rekapitulácia stavby'!AN19="","",'Rekapitulácia stavby'!AN19)
E24: =IF('Rekapitulácia stavby'!E20="","",'Rekapitulácia stavby'!E20) -> Peter Lesák | I24: IČ DPH: | J24: =IF('Rekapitulácia stavby'!AN20="","",'Rekapitulácia stavby'!AN20)
D26: Poznámka:
D30: Cena bez DPH | J30: =ROUND(J124, 2) -> 2926.3
F32: Základ dane | I32: Sadzba dane | J32: Výška dane
D33: DPH | E33: základná | F33: =ROUND((SUM(BE124:BE148)), 2) -> 0 | I33: 0.2 | J33: =ROUND(((SUM(BE124:BE148))*I33), 2) -> 0
E34: znížená | F34: =ROUND((SUM(BF124:BF148)), 2) -> 2926.3 | I34: 0.2 | J34: =ROUND(((SUM(BF124:BF148))*I34), 2) -> 585.26
E35: zákl. prenesená | F35: =ROUND((SUM(BG124:BG148)), 2) -> 0 | I35: 0.2 | J35: =0 -> 0
E36: zníž. prenesená | F36: =ROUND((SUM(BH124:BH148)), 2) -> 0 | I36: 0.2 | J36: =0 -> 0
E37: nulová | F37: =ROUND((SUM(BI124:BI148)), 2) -> 0 | I37: 0 | J37: =0 -> 0
D39: Cena s DPH | G39: v | H39: EUR | J39: =SUM(J30:J37) -> 3511.56
D50: Projektant | G50: Spracovateľ
D61: Dátum a podpis: | F61: Pečiatka | G61: Dátum a podpis: | J61: Pečiatka
D65: Objednávateľ | G65: Zhotoviteľ
D76: Dátum a podpis: | F76: Pečiatka | G76: Dátum a podpis: | J76: Pečiatka
C82: REKAPITULÁCIA ROZPOČTU
C84: Stavba:
E85: =E7 -> Kópia - 20240118 - Stavebné úpravy priestorov kultúrneho domu
C86: Objekt:
E87: =E9 -> 2 - Vnútorné priečky a úp...
C89: Miesto: | F89: =F12 | I89: Dátum: | J89: =IF(J12="","",J12) -> 45646
C91: Objednávateľ: | F91: =E15 | I91: Projektant: | J91: =E21
C92: Zhotoviteľ: | F92: =IF(E18="","",E18) -> BETA FOUR s.r.o. | I92: Spracovateľ: | J92: =E24 -> Peter Lesák
C94: Kód dielu - Popis | J94: Cena celkom [EUR]
C96: Náklady z rozpočtu | J96: =J124 -> 2926.3 | AU96: -1
D97: HSV - Práce a dodávky HSV | J97: =J125 -> 2349.42
D98: 3 - Zvislé a kompletné konštrukcie | J98: =J126 -> 778.97
D99: 6 - Úpravy povrchov, podlahy, osadenie | J99: =J130 -> 1354.5
D100: 9 - Ostatné konštrukcie a práce-búranie | J100: =J135 -> 87.61
D101: 99 - Presun hmôt HSV | J101: =J137 -> 128.34
D102: PSV - Práce a dodávky PSV | J102: =J139 -> 576.88
D103: 766 - Konštrukcie stolárske | J103: =J140 -> 389.03
D104: 784 - Maľby | J104: =J146 -> 187.85
C111: ROZPOČET
C113: Stavba:
E114: =E7 -> Kópia - 20240118 - Stavebné úpravy priestorov kultúrneho domu
C115: Objekt:
E116: =E9 -> 2 - Vnútorné priečky a úp...
C118: Miesto: | F118: =F12 | I118: Dátum: | J118: =IF(J12="","",J12) -> 45646
C120: Objednávateľ: | F120: =E15 | I120: Projektant: | J120: =E21
C121: Zhotoviteľ: | F121: =IF(E18="","",E18) -> BETA FOUR s.r.o. | I121: Spracovateľ: | J121: =E24 -> Peter Lesák
C123: PČ | D123: Typ | E123: Kód | F123: Popis | G123: MJ | H123: Množstvo | I123: J.cena [EUR] | J123: Cena celkom [EUR] | K123: Cenová sústava | N123: DPH | O123: J. Nh [h] | P123: Nh celkom [h] | Q123: J. hmotnosť [t] | R123: Hmotnosť celkom [t] | S123: J. suť [t] | T123: Suť Celkom [t]
C124: Náklady z rozpočtu | J124: =BK124 -> 2926.3 | P124: =P125+P139 -> 0 | R124: =R125+R139 -> 0 | T124: =T125+T139 -> 0 | AT124: D | AU124: -1 | BK124: =BK125+BK139 -> 2926.3
D125: D | E125: HSV | F125: Práce a dodávky HSV | J125: =BK125 -> 2349.42 | P125: =P126+P130+P135+P137 -> 0 | R125: =R126+R130+R135+R137 -> 0 | T125: =T126+T130+T135+T137 -> 0 | AR125: 1 | AT125: D | AU125: 0 | AY125: ROZPOCET | BK125: =BK126+BK130+BK135+BK137 -> 2349.42
D126: D | E126: 3 | F126: Zvislé a kompletné konštrukcie | J126: =BK126 -> 778.97 | P126: =SUM(P127:P129) -> 0 | R126: =SUM(R127:R129) -> 0 | T126: =SUM(T127:T129) -> 0 | AR126: 1 | AT126: D | AU126: 1 | AY126: ROZPOCET | BK126: =SUM(BK127:BK129) -> 778.97
C127: 3 | D127: K | E127: 317160152.S | F127: Keramický preklad nenosný šírky 115 mm, výšky 71 mm, dĺžky 1250 mm | G127: ks | H127: 2 | I127: 20.32 | J127: =ROUND(I127*H127,2) -> 40.64 | N127: znížená | O127: 0 | P127: =O127*H127 -> 0 | Q127: 0 | R127: =Q127*H127 -> 0 | S127: 0 | T127: =S127*H127 -> 0 | AR127: 4 | AT127: K | AU127: 2 | AY127: ROZPOCET | BE127: =IF(N127="základná",J127,0) -> 0 | BF127: =IF(N127="znížená",J127,0) -> 40.64 | BG127: =IF(N127="zákl. prenesená",J127,0) -> 0 | BH127: =IF(N127="zníž. prenesená",J127,0) -> 0 | BI127: =IF(N127="nulová",J127,0) -> 0 | BJ127: 2 | BK127: =ROUND(I127*H127,2) -> 40.64 | BL127: 4 | BM127: 2
C128: 1 | D128: K | E128: 342240131.S | F128: Priečky z tehál pálených dierovaných brúsených na pero a drážku hrúbky 100 mm, na maltu pre tenké škáry | G128: m2 | H128: 19.868 | I128: 36.41 | J128: =ROUND(I128*H128,2) -> 723.39 | N128: znížená | O128: 0 | P128: =O128*H128 -> 0 | Q128: 0 | R128: =Q128*H128 -> 0 | S128: 0 | T128: =S128*H128 -> 0 | AR128: 4 | AT128: K | AU128: 2 | AY128: ROZPOCET | BE128: =IF(N128="základná",J128,0) -> 0 | BF128: =IF(N128="znížená",J128,0) -> 723.39 | BG128: =IF(N128="zákl. prenesená",J128,0) -> 0 | BH128: =IF(N128="zníž. prenesená",J128,0) -> 0 | BI128: =IF(N128="nulová",J128,0) -> 0 | BJ128: 2 | BK128: =ROUND(I128*H128,2) -> 723.39 | BL128: 4 | BM128: 4
C129: 2 | D129: K | E129: 342948115.S | F129: Ukončenie priečok hr. do 100 mm ku konštrukciám polyuretánovou penou | G129: m | H129: 6.2 | I129: 2.41 | J129: =ROUND(I129*H129,2) -> 14.94 | N129: znížená | O129: 0 | P129: =O129*H129 -> 0 | Q129: 0 | R129: =Q129*H129 -> 0 | S129: 0 | T129: =S129*H129 -> 0 | AR129: 4 | AT129: K | AU129: 2 | AY129: ROZPOCET | BE129: =IF(N129="základná",J129,0) -> 0 | BF129: =IF(N129="znížená",J129,0) -> 14.94 | BG129: =IF(N129="zákl. prenesená",J129,0) -> 0 | BH129: =IF(N129="zníž. prenesená",J129,0) -> 0 | BI129: =IF(N129="nulová",J129,0) -> 0 | BJ129: 2 | BK129: =ROUND(I129*H129,2) -> 14.94 | BL129: 4 | BM129: 6
D130: D | E130: 6 | F130: Úpravy povrchov, podlahy, osadenie | J130: =BK130 -> 1354.5 | P130: =SUM(P131:P134) -> 0 | R130: =SUM(R131:R134) -> 0 | T130: =SUM(T131:T134) -> 0 | AR130: 1 | AT130: D | AU130: 1 | AY130: ROZPOCET | BK130: =SUM(BK131:BK134) -> 1354.5
C131: 4 | D131: K | E131: 610991111.S | F131: Zakrývanie výplní vnútorných okenných otvorov, predmetov a konštrukcií | G131: m2 | H131: 1.92 | I131: 2.32 | J131: =ROUND(I131*H131,2) -> 4.45 | N131: znížená | O131: 0 | P131: =O131*H131 -> 0 | Q131: 0 | R131: =Q131*H131 -> 0 | S131: 0 | T131: =S131*H131 -> 0 | AR131: 4 | AT131: K | AU131: 2 | AY131: ROZPOCET | BE131: =IF(N131="základná",J131,0) -> 0 | BF131: =IF(N131="znížená",J131,0) -> 4.45 | BG131: =IF(N131="zákl. prenesená",J131,0) -> 0 | BH131: =IF(N131="zníž. prenesená",J131,0) -> 0 | BI131: =IF(N131="nulová",J131,0) -> 0 | BJ131: 2 | BK131: =ROUND(I131*H131,2) -> 4.45 | BL131: 4 | BM131: 8
C132: 5 | D132: K | E132: 612460151.S | F132: Príprava vnútorného podkladu stien cementovým prednástrekom, hr. 3 mm | G132: m2 | H132: 41.286 | I132: 6.55 | J132: =ROUND(I132*H132,2) -> 270.42 | N132: znížená | O132: 0 | P132: =O132*H132 -> 0 | Q132: 0 | R132: =Q132*H132 -> 0 | S132: 0 | T132: =S132*H132 -> 0 | AR132: 4 | AT132: K | AU132: 2 | AY132: ROZPOCET | BE132: =IF(N132="základná",J132,0) -> 0 | BF132: =IF(N132="znížená",J132,0) -> 270.42 | BG132: =IF(N132="zákl. prenesená",J132,0) -> 0 | BH132: =IF(N132="zníž. prenesená",J132,0) -> 0 | BI132: =IF(N132="nulová",J132,0) -> 0 | BJ132: 2 | BK132: =ROUND(I132*H132,2) -> 270.42 | BL132: 4 | BM132: 10
C133: 7 | D133: K | E133: 612460273.S | F133: Vnútorná omietka stien sadrová, hr. 15 mm | G133: m2 | H133: 41.286 | I133: 17.47 | J133: =ROUND(I133*H133,2) -> 721.27 | N133: znížená | O133: 0 | P133: =O133*H133 -> 0 | Q133: 0 | R133: =Q133*H133 -> 0 | S133: 0 | T133: =S133*H133 -> 0 | AR133: 4 | AT133: K | AU133: 2 | AY133: ROZPOCET | BE133: =IF(N133="základná",J133,0) -> 0 | BF133: =IF(N133="znížená",J133,0) -> 721.27 | BG133: =IF(N133="zákl. prenesená",J133,0) -> 0 | BH133: =IF(N133="zníž. prenesená",J133,0) -> 0 | BI133: =IF(N133="nulová",J133,0) -> 0 | BJ133: 2 | BK133: =ROUND(I133*H133,2) -> 721.27 | BL133: 4 | BM133: 12
C134: 6 | D134: K | E134: 612460302.S | F134: Vnútorná stierka stien sadrová, hr. 2 mm | G134: m2 | H134: 41.286 | I134: 8.68 | J134: =ROUND(I134*H134,2) -> 358.36 | N134: znížená | O134: 0 | P134: =O134*H134 -> 0 | Q134: 0 | R134: =Q134*H134 -> 0 | S134: 0 | T134: =S134*H134 -> 0 | AR134: 4 | AT134: K | AU134: 2 | AY134: ROZPOCET | BE134: =IF(N134="základná",J134,0) -> 0 | BF134: =IF(N134="znížená",J134,0) -> 358.36 | BG134: =IF(N134="zákl. prenesená",J134,0) -> 0 | BH134: =IF(N134="zníž. prenesená",J134,0) -> 0 | BI134: =IF(N134="nulová",J134,0) -> 0 | BJ134: 2 | BK134: =ROUND(I134*H134,2) -> 358.36 | BL134: 4 | BM134: 14
D135: D | E135: 9 | F135: Ostatné konštrukcie a práce-búranie | J135: =BK135 -> 87.61 | P135: =P136 -> 0 | R135: =R136 -> 0 | T135: =T136 -> 0 | AR135: 1 | AT135: D | AU135: 1 | AY135: ROZPOCET | BK135: =BK136 -> 87.61
C136: 10 | D136: K | E136: 941955002.S | F136: Lešenie ľahké pracovné pomocné s výškou lešeňovej podlahy nad 1,20 do 1,90 m | G136: m2 | H136: 15.29 | I136: 5.73 | J136: =ROUND(I136*H136,2) -> 87.61 | N136: znížená | O136: 0 | P136: =O136*H136 -> 0 | Q136: 0 | R136: =Q136*H136 -> 0 | S136: 0 | T136: =S136*H136 -> 0 | AR136: 4 | AT136: K | AU136: 2 | AY136: ROZPOCET | BE136: =IF(N136="základná",J136,0) -> 0 | BF136: =IF(N136="znížená",J136,0) -> 87.61 | BG136: =IF(N136="zákl. prenesená",J136,0) -> 0 | BH136: =IF(N136="zníž. prenesená",J136,0) -> 0 | BI136: =IF(N136="nulová",J136,0) -> 0 | BJ136: 2 | BK136: =ROUND(I136*H136,2) -> 87.61 | BL136: 4 | BM136: 16
D137: D | E137: 99 | F137: Presun hmôt HSV | J137: =BK137 -> 128.34 | P137: =P138 -> 0 | R137: =R138 -> 0 | T137: =T138 -> 0 | AR137: 1 | AT137: D | AU137: 1 | AY137: ROZPOCET | BK137: =BK138 -> 128.34
C138: 17 | D138: K | E138: 999281111.S | F138: Presun hmôt pre opravy a údržbu objektov vrátane vonkajších plášťov výšky do 25 m | G138: t | H138: 2.645 | I138: 48.52 | J138: =ROUND(I138*H138,2) -> 128.34 | N138: znížená | O138: 0 | P138: =O138*H138 -> 0 | Q138: 0 | R138: =Q138*H138 -> 0 | S138: 0 | T138: =S138*H138 -> 0 | AR138: 4 | AT138: K | AU138: 2 | AY138: ROZPOCET | BE138: =IF(N138="základná",J138,0) -> 0 | BF138: =IF(N138="znížená",J138,0) -> 128.34 | BG138: =IF(N138="zákl. prenesená",J138,0) -> 0 | BH138: =IF(N138="zníž. prenesená",J138,0) -> 0 | BI138: =IF(N138="nulová",J138,0) -> 0 | BJ138: 2 | BK138: =ROUND(I138*H138,2) -> 128.34 | BL138: 4 | BM138: 18
D139: D | E139: PSV | F139: Práce a dodávky PSV | J139: =BK139 -> 576.88 | P139: =P140+P146 -> 0 | R139: =R140+R146 -> 0 | T139: =T140+T146 -> 0 | AR139: 2 | AT139: D | AU139: 0 | AY139: ROZPOCET | BK139: =BK140+BK146 -> 576.88
D140: D | E140: 766 | F140: Konštrukcie stolárske | J140: =BK140 -> 389.03 | P140: =SUM(P141:P145) -> 0 | R140: =SUM(R141:R145) -> 0 | T140: =SUM(T141:T145) -> 0 | AR140: 2 | AT140: D | AU140: 1 | AY140: ROZPOCET | BK140: =SUM(BK141:BK145) -> 389.03
C141: 14 | D141: K | E141: 766662112.S | F141: Montáž dverového krídla otočného jednokrídlového poldrážkového, do existujúcej zárubne, vrátane kovania | G141: ks | H141: 1 | I141: 26.83 | J141: =ROUND(I141*H141,2) -> 26.83 | N141: znížená | O141: 0 | P141: =O141*H141 -> 0 | Q141: 0 | R141: =Q141*H141 -> 0 | S141: 0 | T141: =S141*H141 -> 0 | AR141: 16 | AT141: K | AU141: 2 | AY141: ROZPOCET | BE141: =IF(N141="základná",J141,0) -> 0 | BF141: =IF(N141="znížená",J141,0) -> 26.83 | BG141: =IF(N141="zákl. prenesená",J141,0) -> 0 | BH141: =IF(N141="zníž. prenesená",J141,0) -> 0 | BI141: =IF(N141="nulová",J141,0) -> 0 | BJ141: 2 | BK141: =ROUND(I141*H141,2) -> 26.83 | BL141: 16 | BM141: 20
C142: 15 | D142: M | E142: 549150000600.S | F142: Kľučka dverová a rozeta 2x, nehrdzavejúca oceľ, povrch nerez brúsený | G142: ks | H142: 1 | I142: 23.1 | J142: =ROUND(I142*H142,2) -> 23.1 | N142: znížená | O142: 0 | P142: =O142*H142 -> 0 | Q142: 0 | R142: =Q142*H142 -> 0 | S142: 0 | T142: =S142*H142 -> 0 | AR142: 32 | AT142: M | AU142: 2 | AY142: ROZPOCET | BE142: =IF(N142="základná",J142,0) -> 0 | BF142: =IF(N142="znížená",J142,0) -> 23.1 | BG142: =IF(N142="zákl. prenesená",J142,0) -> 0 | BH142: =IF(N142="zníž. prenesená",J142,0) -> 0 | BI142: =IF(N142="nulová",J142,0) -> 0 | BJ142: 2 | BK142: =ROUND(I142*H142,2) -> 23.1 | BL142: 16 | BM142: 22
C143: 16 | D143: M | E143: 611610000400.S | F143: Dvere vnútorné jednokrídlové, šírka 600-900 mm, výplň papierová voština, povrch fólia, plné | G143: ks | H143: 1 | I143: 137.83 | J143: =ROUND(I143*H143,2) -> 137.83 | N143: znížená | O143: 0 | P143: =O143*H143 -> 0 | Q143: 0 | R143: =Q143*H143 -> 0 | S143: 0 | T143: =S143*H143 -> 0 | AR143: 32 | AT143: M | AU143: 2 | AY143: ROZPOCET | BE143: =IF(N143="základná",J143,0) -> 0 | BF143: =IF(N143="znížená",J143,0) -> 137.83 | BG143: =IF(N143="zákl. prenesená",J143,0) -> 0 | BH143: =IF(N143="zníž. prenesená",J143,0) -> 0 | BI143: =IF(N143="nulová",J143,0) -> 0 | BJ143: 2 | BK143: =ROUND(I143*H143,2) -> 137.83 | BL143: 16 | BM143: 24
C144: 12 | D144: K | E144: 766702111.S | F144: Montáž zárubní obložkových pre dvere jednokrídlové | G144: ks | H144: 1 | I144: 75.17 | J144: =ROUND(I144*H144,2) -> 75.17 | N144: znížená | O144: 0 | P144: =O144*H144 -> 0 | Q144: 0 | R144: =Q144*H144 -> 0 | S144: 0 | T144: =S144*H144 -> 0 | AR144: 16 | AT144: K | AU144: 2 | AY144: ROZPOCET | BE144: =IF(N144="základná",J144,0) -> 0 | BF144: =IF(N144="znížená",J144,0) -> 75.17 | BG144: =IF(N144="zákl. prenesená",J144,0) -> 0 | BH144: =IF(N144="zníž. prenesená",J144,0) -> 0 | BI144: =IF(N144="nulová",J144,0) -> 0 | BJ144: 2 | BK144: =ROUND(I144*H144,2) -> 75.17 | BL144: 16 | BM144: 26
C145: 13 | D145: M | E145: 611810002200.S | F145: Zárubňa vnútorná obložková, šírka 600-900 mm, výška 1970 mm, DTD doska, povrch fólia, pre stenu hrúbky 60-170 mm, pre jednokrídlové dvere | G145: ks | H145: 1 | I145: 126.1 | J145: =ROUND(I145*H145,2) -> 126.1 | N145: znížená | O145: 0 | P145: =O145*H145 -> 0 | Q145: 0 | R145: =Q145*H145 -> 0 | S145: 0 | T145: =S145*H145 -> 0 | AR145: 32 | AT145: M | AU145: 2 | AY145: ROZPOCET | BE145: =IF(N145="základná",J145,0) -> 0 | BF145: =IF(N145="znížená",J145,0) -> 126.1 | BG145: =IF(N145="zákl. prenesená",J145,0) -> 0 | BH145: =IF(N145="zníž. prenesená",J145,0) -> 0 | BI145: =IF(N145="nulová",J145,0) -> 0 | BJ145: 2 | BK145: =ROUND(I145*H145,2) -> 126.1 | BL145: 16 | BM145: 28
D146: D | E146: 784 | F146: Maľby | J146: =BK146 -> 187.85 | P146: =SUM(P147:P148) -> 0 | R146: =SUM(R147:R148) -> 0 | T146: =SUM(T147:T148) -> 0 | AR146: 2 | AT146: D | AU146: 1 | AY146: ROZPOCET | BK146: =SUM(BK147:BK148) -> 187.85
C147: 8 | D147: K | E147: 784410100.S | F147: Penetrovanie jednonásobné jemnozrnných podkladov výšky do 3,80 m | G147: m2 | H147: 41.286 | I147: 1.43 | J147: =ROUND(I147*H147,2) -> 59.04 | N147: znížená | O147: 0 | P147: =O147*H147 -> 0 | Q147: 0 | R147: =Q147*H147 -> 0 | S147: 0 | T147: =S147*H147 -> 0 | AR147: 16 | AT147: K | AU147: 2 | AY147: ROZPOCET | BE147: =IF(N147="základná",J147,0) -> 0 | BF147: =IF(N147="znížená",J147,0) -> 59.04 | BG147: =IF(N147="zákl. prenesená",J147,0) -> 0 | BH147: =IF(N147="zníž. prenesená",J147,0) -> 0 | BI147: =IF(N147="nulová",J147,0) -> 0 | BJ147: 2 | BK147: =ROUND(I147*H147,2) -> 59.04 | BL147: 16 | BM147: 30
C148: 9 | D148: K | E148: 784422271.S | F148: Maľby vápenné základné dvojnásobné, ručne nanášané na jemnozrnný podklad výšky do 3,80 m | G148: m2 | H148: 41.286 | I148: 3.12 | J148: =ROUND(I148*H148,2) -> 128.81 | N148: znížená | O148: 0 | P148: =O148*H148 -> 0 | Q148: 0 | R148: =Q148*H148 -> 0 | S148: 0 | T148: =S148*H148 -> 0 | AR148: 16 | AT148: K | AU148: 2 | AY148: ROZPOCET | BE148: =IF(N148="základná",J148,0) -> 0 | BF148: =IF(N148="znížená",J148,0) -> 128.81 | BG148: =IF(N148="zákl. prenesená",J148,0) -> 0 | BH148: =IF(N148="zníž. prenesená",J148,0) -> 0 | BI148: =IF(N148="nulová",J148,0) -> 0 | BJ148: 2 | BK148: =ROUND(I148*H148,2) -> 128.81 | BL148: 16 | BM148: 32

Sheet 3 - Úprava sociálnych zar...
L2: >> skryté stĺpce << | AT2: {42203da9-c2a8-4c52-a7cb-1146dc8a5e5c}
AT3: 0
D4: KRYCÍ LIST ROZPOČTU | M4: v --- nižšie sa nachádzajú doplnkové a pomocné údaje k zostavám --- v | AT4: False
D6: Stavba:
E7: ='Rekapitulácia stavby'!K6 -> Kópia - 20240118 - Stavebné úpravy priestorov kultúrneho domu
D8: Objekt:
E9: 3 - Úprava sociálnych zar...
D11: JKSO: | I11: KS:
D12: Miesto: | I12: Dátum: | J12: ='Rekapitulácia stavby'!AN8 -> 45646
D14: Objednávateľ: | I14: IČO: | J14: =IF('Rekapitulácia stavby'!AN10="","",'Rekapitulácia stavby'!AN10)
E15: =IF('Rekapitulácia stavby'!E11="","",'Rekapitulácia stavby'!E11) | I15: IČ DPH: | J15: =IF('Rekapitulácia stavby'!AN11="","",'Rekapitulácia stavby'!AN11)
D17: Zhotoviteľ: | I17: IČO: | J17: ='Rekapitulácia stavby'!AN13 -> 46114696
E18: ='Rekapitulácia stavby'!E14 -> BETA FOUR s.r.o. | I18: IČ DPH: | J18: ='Rekapitulácia stavby'!AN14 -> SK2023241880
D20: Projektant: | I20: IČO: | J20: =IF('Rekapitulácia stavby'!AN16="","",'Rekapitulácia stavby'!AN16)
E21: =IF('Rekapitulácia stavby'!E17="","",'Rekapitulácia stavby'!E17) | I21: IČ DPH: | J21: =IF('Rekapitulácia stavby'!AN17="","",'Rekapitulácia stavby'!AN17)
D23: Spracovateľ: | I23: IČO: | J23: =IF('Rekapitulácia stavby'!AN19="","",'Rekapitulácia stavby'!AN19)
E24: =IF('Rekapitulácia stavby'!E20="","",'Rekapitulácia stavby'!E20) -> Peter Lesák | I24: IČ DPH: | J24: =IF('Rekapitulácia stavby'!AN20="","",'Rekapitulácia stavby'!AN20)
D26: Poznámka:
D30: Cena bez DPH | J30: =ROUND(J129, 2) -> 17671.18
F32: Základ dane | I32: Sadzba dane | J32: Výška dane
D33: DPH | E33: základná | F33: =ROUND((SUM(BE129:BE183)), 2) -> 0 | I33: 0.2 | J33: =ROUND(((SUM(BE129:BE183))*I33), 2) -> 0
E34: znížená | F34: =ROUND((SUM(BF129:BF183)), 2) -> 17671.18 | I34: 0.2 | J34: =ROUND(((SUM(BF129:BF183))*I34), 2) -> 3534.24
E35: zákl. prenesená | F35: =ROUND((SUM(BG129:BG183)), 2) -> 0 | I35: 0.2 | J35: =0 -> 0
E36: zníž. prenesená | F36: =ROUND((SUM(BH129:BH183)), 2) -> 0 | I36: 0.2 | J36: =0 -> 0
E37: nulová | F37: =ROUND((SUM(BI129:BI183)), 2) -> 0 | I37: 0 | J37: =0 -> 0
D39: Cena s DPH | G39: v | H39: EUR | J39: =SUM(J30:J37) -> 21205.42
D50: Projektant | G50: Spracovateľ
D61: Dátum a podpis: | F61: Pečiatka | G61: Dátum a podpis: | J61: Pečiatka
D65: Objednávateľ | G65: Zhotoviteľ
D76: Dátum a podpis: | F76: Pečiatka | G76: Dátum a podpis: | J76: Pečiatka
C82: REKAPITULÁCIA ROZPOČTU
C84: Stavba:
E85: =E7 -> Kópia - 20240118 - Stavebné úpravy priestorov kultúrneho domu
C86: Objekt:
E87: =E9 -> 3 - Úprava sociálnych zar...
C89: Miesto: | F89: =F12 | I89: Dátum: | J89: =IF(J12="","",J12) -> 45646
C91: Objednávateľ: | F91: =E15 | I91: Projektant: | J91: =E21
C92: Zhotoviteľ: | F92: =IF(E18="","",E18) -> BETA FOUR s.r.o. | I92: Spracovateľ: | J92: =E24 -> Peter Lesák
C94: Kód dielu - Popis | J94: Cena celkom [EUR]
C96: Náklady z rozpočtu | J96: =J129 -> 17671.18 | AU96: -1
D97: HSV - Práce a dodávky HSV | J97: =J130 -> 5525.9
D98: 3 - Zvislé a kompletné konštrukcie | J98: =J131 -> 1335.31
D99: 6 - Úpravy povrchov, podlahy, osadenie | J99: =J136 -> 2638.89
D100: 9 - Ostatné konštrukcie a práce-búranie | J100: =J144 -> 1308.32
D101: 99 - Presun hmôt HSV | J101: =J156 -> 243.38
D102: PSV - Práce a dodávky PSV | J102: =J158 -> 9985.28
D103: 763 - Konštrukcie - drevostavby | J103: =J159 -> 803.91
D104: 766 - Konštrukcie stolárske | J104: =J163 -> 2735.14
D105: 771 - Podlahy z dlaždíc | J105: =J170 -> 772.5
D106: 781 - Obklady | J106: =J174 -> 5602.59
D107: 784 - Maľby | J107: =J178 -> 71.14
D108: M - Práce a dodávky M | J108: =J181 -> 2160
D109: 21-M - Elektromontáže | J109: =J182 -> 2160
C116: ROZPOČET
C118: Stavba:
E119: =E7 -> Kópia - 20240118 - Stavebné úpravy priestorov kultúrneho domu
C120: Objekt:
E121: =E9 -> 3 - Úprava sociálnych zar...
C123: Miesto: | F123: =F12 | I123: Dátum: | J123: =IF(J12="","",J12) -> 45646
C125: Objednávateľ: | F125: =E15 | I125: Projektant: | J125: =E21
C126: Zhotoviteľ: | F126: =IF(E18="","",E18) -> BETA FOUR s.r.o. | I126: Spracovateľ: | J126: =E24 -> Peter Lesák
C128: PČ | D128: Typ | E128: Kód | F128: Popis | G128: MJ | H128: Množstvo | I128: J.cena [EUR] | J128: Cena celkom [EUR] | K128: Cenová sústava | N128: DPH | O128: J. Nh [h] | P128: Nh celkom [h] | Q128: J. hmotnosť [t] | R128: Hmotnosť celkom [t] | S128: J. suť [t] | T128: Suť Celkom [t]
C129: Náklady z rozpočtu | J129: =BK129 -> 17671.18 | P129: =P130+P158+P181 -> 0 | R129: =R130+R158+R181 -> 0 | T129: =T130+T158+T181 -> 0 | AT129: D | AU129: -1 | BK129: =BK130+BK158+BK181 -> 17671.18
D130: D | E130: HSV | F130: Práce a dodávky HSV | J130: =BK130 -> 5525.9 | P130: =P131+P136+P144+P156 -> 0 | R130: =R131+R136+R144+R156 -> 0 | T130: =T131+T136+T144+T156 -> 0 | AR130: 1 | AT130: D | AU130: 0 | AY130: ROZPOCET | BK130: =BK131+BK136+BK144+BK156 -> 5525.9
D131: D | E131: 3 | F131: Zvislé a kompletné konštrukcie | J131: =BK131 -> 1335.31 | P131: =SUM(P132:P135) -> 0 | R131: =SUM(R132:R135) -> 0 | T131: =SUM(T132:T135) -> 0 | AR131: 1 | AT131: D | AU131: 1 | AY131: ROZPOCET | BK131: =SUM(BK132:BK135) -> 1335.31
C132: 12 | D132: K | E132: 310238411.S | F132: Zamurovanie otvoru s plochou nad 0.25 do 1 m2 v murive nadzákladného tehlami na maltu cementovú | G132: m3 | H132: 0.16 | I132: 398.25 | J132: =ROUND(I132*H132,2) -> 63.72 | N132: znížená | O132: 0 | P132: =O132*H132 -> 0 | Q132: 0 | R132: =Q132*H132 -> 0 | S132: 0 | T132: =S132*H132 -> 0 | AR132: 4 | AT132: K | AU132: 2 | AY132: ROZPOCET | BE132: =IF(N132="základná",J132,0) -> 0 | BF132: =IF(N132="znížená",J132,0) -> 63.72 | BG132: =IF(N132="zákl. prenesená",J132,0) -> 0 | BH132: =IF(N132="zníž. prenesená",J132,0) -> 0 | BI132: =IF(N132="nulová",J132,0) -> 0 | BJ132: 2 | BK132: =ROUND(I132*H132,2) -> 63.72 | BL132: 4 | BM132: 2
C133: 13 | D133: K | E133: 317160152.S | F133: Keramický preklad nenosný šírky 115 mm, výšky 71 mm, dĺžky 1250 mm | G133: ks | H133: 7 | I133: 20.32 | J133: =ROUND(I133*H133,2) -> 142.24 | N133: znížená | O133: 0 | P133: =O133*H133 -> 0 | Q133: 0 | R133: =Q133*H133 -> 0 | S133: 0 | T133: =S133*H133 -> 0 | AR133: 4 | AT133: K | AU133: 2 | AY133: ROZPOCET | BE133: =IF(N133="základná",J133,0) -> 0 | BF133: =IF(N133="znížená",J133,0) -> 142.24 | BG133: =IF(N133="zákl. prenesená",J133,0) -> 0 | BH133: =IF(N133="zníž. prenesená",J133,0) -> 0 | BI133: =IF(N133="nulová",J133,0) -> 0 | BJ133: 2 | BK133: =ROUND(I133*H133,2) -> 142.24 | BL133: 4 | BM133: 4
C134: 14 | D134: K | E134: 342240131.S | F134: Priečky z tehál pálených dierovaných brúsených na pero a drážku hrúbky 100 mm, na maltu pre tenké škáry | G134: m2 | H134: 30.065 | I134: 36.41 | J134: =ROUND(I134*H134,2) -> 1094.67 | N134: znížená | O134: 0 | P134: =O134*H134 -> 0 | Q134: 0 | R134: =Q134*H134 -> 0 | S134: 0 | T134: =S134*H134 -> 0 | AR134: 4 | AT134: K | AU134: 2 | AY134: ROZPOCET | BE134: =IF(N134="základná",J134,0) -> 0 | BF134: =IF(N134="znížená",J134,0) -> 1094.67 | BG134: =IF(N134="zákl. prenesená",J134,0) -> 0 | BH134: =IF(N134="zníž. prenesená",J134,0) -> 0 | BI134: =IF(N134="nulová",J134,0) -> 0 | BJ134: 2 | BK134: =ROUND(I134*H134,2) -> 1094.67 | BL134: 4 | BM134: 6
C135: 15 | D135: K | E135: 342948115.S | F135: Ukončenie priečok hr. do 100 mm ku konštrukciám polyuretánovou penou | G135: m | H135: 14.39 | I135: 2.41 | J135: =ROUND(I135*H135,2) -> 34.68 | N135: znížená | O135: 0 | P135: =O135*H135 -> 0 | Q135: 0 | R135: =Q135*H135 -> 0 | S135: 0 | T135: =S135*H135 -> 0 | AR135: 4 | AT135: K | AU135: 2 | AY135: ROZPOCET | BE135: =IF(N135="základná",J135,0) -> 0 | BF135: =IF(N135="znížená",J135,0) -> 34.68 | BG135: =IF(N135="zákl. prenesená",J135,0) -> 0 | BH135: =IF(N135="zníž. prenesená",J135,0) -> 0 | BI135: =IF(N135="nulová",J135,0) -> 0 | BJ135: 2 | BK135: =ROUND(I135*H135,2) -> 34.68 | BL135: 4 | BM135: 8
D136: D | E136: 6 | F136: Úpravy povrchov, podlahy, osadenie | J136: =BK136 -> 2638.89 | P136: =SUM(P137:P143) -> 0 | R136: =SUM(R137:R143) -> 0 | T136: =SUM(T137:T143) -> 0 | AR136: 1 | AT136: D | AU136: 1 | AY136: ROZPOCET | BK136: =SUM(BK137:BK143) -> 2638.89
C137: 16 | D137: K | E137: 612460151.S | F137: Príprava vnútorného podkladu stien cementovým prednástrekom, hr. 3 mm | G137: m2 | H137: 97.452 | I137: 6.55 | J137: =ROUND(I137*H137,2) -> 638.31 | N137: znížená | O137: 0 | P137: =O137*H137 -> 0 | Q137: 0 | R137: =Q137*H137 -> 0 | S137: 0 | T137: =S137*H137 -> 0 | AR137: 4 | AT137: K | AU137: 2 | AY137: ROZPOCET | BE137: =IF(N137="základná",J137,0) -> 0 | BF137: =IF(N137="znížená",J137,0) -> 638.31 | BG137: =IF(N137="zákl. prenesená",J137,0) -> 0 | BH137: =IF(N137="zníž. prenesená",J137,0) -> 0 | BI137: =IF(N137="nulová",J137,0) -> 0 | BJ137: 2 | BK137: =ROUND(I137*H137,2) -> 638.31 | BL137: 4 | BM137: 10
C138: 17 | D138: K | E138: 612460273.S | F138: Vnútorná omietka stien sadrová, hr. 15 mm | G138: m2 | H138: 97.452 | I138: 17.47 | J138: =ROUND(I138*H138,2) -> 1702.49 | N138: znížená | O138: 0 | P138: =O138*H138 -> 0 | Q138: 0 | R138: =Q138*H138 -> 0 | S138: 0 | T138: =S138*H138 -> 0 | AR138: 4 | AT138: K | AU138: 2 | AY138: ROZPOCET | BE138: =IF(N138="základná",J138,0) -> 0 | BF138: =IF(N138="znížená",J138,0) -> 1702.49 | BG138: =IF(N138="zákl. prenesená",J138,0) -> 0 | BH138: =IF(N138="zníž. prenesená",J138,0) -> 0 | BI138: =IF(N138="nulová",J138,0) -> 0 | BJ138: 2 | BK138: =ROUND(I138*H138,2) -> 1702.49 | BL138: 4 | BM138: 12
C139: 26 | D139: K | E139: 632001051.S | F139: Zhotovenie jednonásobného penetračného náteru pre potery a stierky | G139: m2 | H139: 15.634 | I139: 0.74 | J139: =ROUND(I139*H139,2) -> 11.57 | N139: znížená | O139: 0 | P139: =O139*H139 -> 0 | Q139: 0 | R139: =Q139*H139 -> 0 | S139: 0 | T139: =S139*H139 -> 0 | AR139: 4 | AT139: K | AU139: 2 | AY139: ROZPOCET | BE139: =IF(N139="základná",J139,0) -> 0 | BF139: =IF(N139="znížená",J139,0) -> 11.57 | BG139: =IF(N139="zákl. prenesená",J139,0) -> 0 | BH139: =IF(N139="zníž. prenesená",J139,0) -> 0 | BI139: =IF(N139="nulová",J139,0) -> 0 | BJ139: 2 | BK139: =ROUND(I139*H139,2) -> 11.57 | BL139: 4 | BM139: 14
C140: 27 | D140: M | E140: 082110000200.S | F140: Voda pitná pre priemysel a služby | G140: m3 | H140: 10.162 | I140: 1.2 | J140: =ROUND(I140*H140,2) -> 12.19 | N140: znížená | O140: 0 | P140: =O140*H140 -> 0 | Q140: 0 | R140: =Q140*H140 -> 0 | S140: 0 | T140: =S140*H140 -> 0 | AR140: 8 | AT140: M | AU140: 2 | AY140: ROZPOCET | BE140: =IF(N140="základná",J140,0) -> 0 | BF140: =IF(N140="znížená",J140,0) -> 12.19 | BG140: =IF(N140="zákl. prenesená",J140,0) -> 0 | BH140: =IF(N140="zníž. prenesená",J140,0) -> 0 | BI140: =IF(N140="nulová",J140,0) -> 0 | BJ140: 2 | BK140: =ROUND(I140*H140,2) -> 12.19 | BL140: 4 | BM140: 16
C141: 28 | D141: M | E141: 585520008700.S | F141: Penetračný náter na nasiakavé podklady pod potery, samonivelizačné hmoty a stavebné lepidlá | G141: kg | H141: 5.472 | I141: 5.22 | J141: =ROUND(I141*H141,2) -> 28.56 | N141: znížená | O141: 0 | P141: =O141*H141 -> 0 | Q141: 0 | R141: =Q141*H141 -> 0 | S141: 0 | T141: =S141*H141 -> 0 | AR141: 8 | AT141: M | AU141: 2 | AY141: ROZPOCET | BE141: =IF(N141="základná",J141,0) -> 0 | BF141: =IF(N141="znížená",J141,0) -> 28.56 | BG141: =IF(N141="zákl. prenesená",J141,0) -> 0 | BH141: =IF(N141="zníž. prenesená",J141,0) -> 0 | BI141: =IF(N141="nulová",J141,0) -> 0 | BJ141: 2 | BK141: =ROUND(I141*H141,2) -> 28.56 | BL141: 4 | BM141: 18
C142: 29 | D142: K | E142: 632452644.S | F142: Cementová samonivelizačná stierka, pevnosti v tlaku 25 MPa, hr. 5 mm | G142: m2 | H142: 15.634 | I142: 14.24 | J142: =ROUND(I142*H142,2) -> 222.63 | N142: znížená | O142: 0 | P142: =O142*H142 -> 0 | Q142: 0 | R142: =Q142*H142 -> 0 | S142: 0 | T142: =S142*H142 -> 0 | AR142: 4 | AT142: K | AU142: 2 | AY142: ROZPOCET | BE142: =IF(N142="základná",J142,0) -> 0 | BF142: =IF(N142="znížená",J142,0) -> 222.63 | BG142: =IF(N142="zákl. prenesená",J142,0) -> 0 | BH142: =IF(N142="zníž. prenesená",J142,0) -> 0 | BI142: =IF(N142="nulová",J142,0) -> 0 | BJ142: 2 | BK142: =ROUND(I142*H142,2) -> 222.63 | BL142: 4 | BM142: 20
C143: 30 | D143: K | E143: 776990105.S | F143: Vysávanie podkladu pred kladením samonivelačnej hmoty | G143: m2 | H143: 15.634 | I143: 1.48 | J143: =ROUND(I143*H143,2) -> 23.14 | N143: znížená | O143: 0 | P143: =O143*H143 -> 0 | Q143: 0 | R143: =Q143*H143 -> 0 | S143: 0 | T143: =S143*H143 -> 0 | AR143: 4 | AT143: K | AU143: 2 | AY143: ROZPOCET | BE143: =IF(N143="základná",J143,0) -> 0 | BF143: =IF(N143="znížená",J143,0) -> 23.14 | BG143: =IF(N143="zákl. prenesená",J143,0) -> 0 | BH143: =IF(N143="zníž. prenesená",J143,0) -> 0 | BI143: =IF(N143="nulová",J143,0) -> 0 | BJ143: 2 | BK143: =ROUND(I143*H143,2) -> 23.14 | BL143: 4 | BM143: 22
D144: D | E144: 9 | F144: Ostatné konštrukcie a práce-búranie | J144: =BK144 -> 1308.32 | P144: =SUM(P145:P155) -> 0 | R144: =SUM(R145:R155) -> 0 | T144: =SUM(T145:T155) -> 0 | AR144: 1 | AT144: D | AU144: 1 | AY144: ROZPOCET | BK144: =SUM(BK145:BK155) -> 1308.32
C145: 3 | D145: K | E145: 962032231.S | F145: Búranie muriva alebo vybúranie otvorov plochy nad 4 m2 nadzákladového z tehál pálených, vápenopieskových, cementových na maltu, -1,90500t | G145: m3 | H145: 2.117 | I145: 32.89 | J145: =ROUND(I145*H145,2) -> 69.63 | N145: znížená | O145: 0 | P145: =O145*H145 -> 0 | Q145: 0 | R145: =Q145*H145 -> 0 | S145: 0 | T145: =S145*H145 -> 0 | AR145: 4 | AT145: K | AU145: 2 | AY145: ROZPOCET | BE145: =IF(N145="základná",J145,0) -> 0 | BF145: =IF(N145="znížená",J145,0) -> 69.63 | BG145: =IF(N145="zákl. prenesená",J145,0) -> 0 | BH145: =IF(N145="zníž. prenesená",J145,0) -> 0 | BI145: =IF(N145="nulová",J145,0) -> 0 | BJ145: 2 | BK145: =ROUND(I145*H145,2) -> 69.63 | BL145: 4 | BM145: 24
C146: 11 | D146: K | E146: 965044201.S | F146: Brúsenie existujúcich betónových podláh, zbrúsenie hrúbky do 3 mm -0,00600t | G146: m2 | H146: 17.872 | I146: 7.76 | J146: =ROUND(I146*H146,2) -> 138.69 | N146: znížená | O146: 0 | P146: =O146*H146 -> 0 | Q146: 0 | R146: =Q146*H146 -> 0 | S146: 0 | T146: =S146*H146 -> 0 | AR146: 4 | AT146: K | AU146: 2 | AY146: ROZPOCET | BE146: =IF(N146="základná",J146,0) -> 0 | BF146: =IF(N146="znížená",J146,0) -> 138.69 | BG146: =IF(N146="zákl. prenesená",J146,0) -> 0 | BH146: =IF(N146="zníž. prenesená",J146,0) -> 0 | BI146: =IF(N146="nulová",J146,0) -> 0 | BJ146: 2 | BK146: =ROUND(I146*H146,2) -> 138.69 | BL146: 4 | BM146: 26
C147: 10 | D147: K | E147: 965081712.S | F147: Búranie dlažieb, bez podklad. lôžka z xylolit., alebo keramických dlaždíc hr. do 10 mm, -0,02000t | G147: m2 | H147: 17.872 | I147: 2.89 | J147: =ROUND(I147*H147,2) -> 51.65 | N147: znížená | O147: 0 | P147: =O147*H147 -> 0 | Q147: 0 | R147: =Q147*H147 -> 0 | S147: 0 | T147: =S147*H147 -> 0 | AR147: 4 | AT147: K | AU147: 2 | AY147: ROZPOCET | BE147: =IF(N147="základná",J147,0) -> 0 | BF147: =IF(N147="znížená",J147,0) -> 51.65 | BG147: =IF(N147="zákl. prenesená",J147,0) -> 0 | BH147: =IF(N147="zníž. prenesená",J147,0) -> 0 | BI147: =IF(N147="nulová",J147,0) -> 0 | BJ147: 2 | BK147: =ROUND(I147*H147,2) -> 51.65 | BL147: 4 | BM147: 28
C148: 2 | D148: K | E148: 968071116.S | F148: Demontáž dverí kovových, drevených, 1 bm obvodu - 0,005t | G148: m | H148: 16.22 | I148: 6.46 | J148: =ROUND(I148*H148,2) -> 104.78 | N148: znížená | O148: 0 | P148: =O148*H148 -> 0 | Q148: 0 | R148: =Q148*H148 -> 0 | S148: 0 | T148: =S148*H148 -> 0 | AR148: 4 | AT148: K | AU148: 2 | AY148: ROZPOCET | BE148: =IF(N148="základná",J148,0) -> 0 | BF148: =IF(N148="znížená",J148,0) -> 104.78 | BG148: =IF(N148="zákl. prenesená",J148,0) -> 0 | BH148: =IF(N148="zníž. prenesená",J148,0) -> 0 | BI148: =IF(N148="nulová",J148,0) -> 0 | BJ148: 2 | BK148: =ROUND(I148*H148,2) -> 104.78 | BL148: 4 | BM148: 30
C149: 1 | D149: K | E149: 978059531.S | F149: Odsekanie a odobratie obkladov stien z obkladačiek vnútorných vrátane podkladovej omietky nad 2 m2, -0,06800t | G149: m2 | H149: 35.94 | I149: 5.33 | J149: =ROUND(I149*H149,2) -> 191.56 | N149: znížená | O149: 0 | P149: =O149*H149 -> 0 | Q149: 0 | R149: =Q149*H149 -> 0 | S149: 0 | T149: =S149*H149 -> 0 | AR149: 4 | AT149: K | AU149: 2 | AY149: ROZPOCET | BE149: =IF(N149="základná",J149,0) -> 0 | BF149: =IF(N149="znížená",J149,0) -> 191.56 | BG149: =IF(N149="zákl. prenesená",J149,0) -> 0 | BH149: =IF(N149="zníž. prenesená",J149,0) -> 0 | BI149: =IF(N149="nulová",J149,0) -> 0 | BJ149: 2 | BK149: =ROUND(I149*H149,2) -> 191.56 | BL149: 4 | BM149: 32
C150: 7 | D150: K | E150: 979081111.S | F150: Odvoz sutiny a vybúraných hmôt na skládku do 1 km | G150: t | H150: 7.023 | I150: 16.68 | J150: =ROUND(I150*H150,2) -> 117.14 | N150: znížená | O150: 0 | P150: =O150*H150 -> 0 | Q150: 0 | R150: =Q150*H150 -> 0 | S150: 0 | T150: =S150*H150 -> 0 | AR150: 4 | AT150: K | AU150: 2 | AY150: ROZPOCET | BE150: =IF(N150="základná",J150,0) -> 0 | BF150: =IF(N150="znížená",J150,0) -> 117.14 | BG150: =IF(N150="zákl. prenesená",J150,0) -> 0 | BH150: =IF(N150="zníž. prenesená",J150,0) -> 0 | BI150: =IF(N150="nulová",J150,0) -> 0 | BJ150: 2 | BK150: =ROUND(I150*H150,2) -> 117.14 | BL150: 4 | BM150: 34
C151: 8 | D151: K | E151: 979081121.S | F151: Odvoz sutiny a vybúraných hmôt na skládku za každý ďalší 1 km | G151: t | H151: 7.023 | I151: 0.5 | J151: =ROUND(I151*H151,2) -> 3.51 | N151: znížená | O151: 0 | P151: =O151*H151 -> 0 | Q151: 0 | R151: =Q151*H151 -> 0 | S151: 0 | T151: =S151*H151 -> 0 | AR151: 4 | AT151: K | AU151: 2 | AY151: ROZPOCET | BE151: =IF(N151="základná",J151,0) -> 0 | BF151: =IF(N151="znížená",J151,0) -> 3.51 | BG151: =IF(N151="zákl. prenesená",J151,0) -> 0 | BH151: =IF(N151="zníž. prenesená",J151,0) -> 0 | BI151: =IF(N151="nulová",J151,0) -> 0 | BJ151: 2 | BK151: =ROUND(I151*H151,2) -> 3.51 | BL151: 4 | BM151: 36
C152: 5 | D152: K | E152: 979082111.S | F152: Vnútrostavenisková doprava sutiny a vybúraných hmôt do 10 m | G152: t | H152: 7.023 | I152: 14.05 | J152: =ROUND(I152*H152,2) -> 98.67 | N152: znížená | O152: 0 | P152: =O152*H152 -> 0 | Q152: 0 | R152: =Q152*H152 -> 0 | S152: 0 | T152: =S152*H152 -> 0 | AR152: 4 | AT152: K | AU152: 2 | AY152: ROZPOCET | BE152: =IF(N152="základná",J152,0) -> 0 | BF152: =IF(N152="znížená",J152,0) -> 98.67 | BG152: =IF(N152="zákl. prenesená",J152,0) -> 0 | BH152: =IF(N152="zníž. prenesená",J152,0) -> 0 | BI152: =IF(N152="nulová",J152,0) -> 0 | BJ152: 2 | BK152: =ROUND(I152*H152,2) -> 98.67 | BL152: 4 | BM152: 38
C153: 6 | D153: K | E153: 979082121.S | F153: Vnútrostavenisková doprava sutiny a vybúraných hmôt za každých ďalších 5 m | G153: t | H153: 14.046 | I153: 1.58 | J153: =ROUND(I153*H153,2) -> 22.19 | N153: znížená | O153: 0 | P153: =O153*H153 -> 0 | Q153: 0 | R153: =Q153*H153 -> 0 | S153: 0 | T153: =S153*H153 -> 0 | AR153: 4 | AT153: K | AU153: 2 | AY153: ROZPOCET | BE153: =IF(N153="základná",J153,0) -> 0 | BF153: =IF(N153="znížená",J153,0) -> 22.19 | BG153: =IF(N153="zákl. prenesená",J153,0) -> 0 | BH153: =IF(N153="zníž. prenesená",J153,0) -> 0 | BI153: =IF(N153="nulová",J153,0) -> 0 | BJ153: 2 | BK153: =ROUND(I153*H153,2) -> 22.19 | BL153: 4 | BM153: 40
C154: 4 | D154: K | E154: 979087112.S | F154: Nakladanie na dopravný prostriedok pre vodorovnú dopravu sutiny | G154: t | H154: 7.023 | I154: 5.69 | J154: =ROUND(I154*H154,2) -> 39.96 | N154: znížená | O154: 0 | P154: =O154*H154 -> 0 | Q154: 0 | R154: =Q154*H154 -> 0 | S154: 0 | T154: =S154*H154 -> 0 | AR154: 4 | AT154: K | AU154: 2 | AY154: ROZPOCET | BE154: =IF(N154="základná",J154,0) -> 0 | BF154: =IF(N154="znížená",J154,0) -> 39.96 | BG154: =IF(N154="zákl. prenesená",J154,0) -> 0 | BH154: =IF(N154="zníž. prenesená",J154,0) -> 0 | BI154: =IF(N154="nulová",J154,0) -> 0 | BJ154: 2 | BK154: =ROUND(I154*H154,2) -> 39.96 | BL154: 4 | BM154: 42
C155: 9 | D155: K | E155: 979089012.S | F155: Poplatok za skládku - betón, tehly, dlaždice (17 01) ostatné | G155: t | H155: 7.023 | I155: 67 | J155: =ROUND(I155*H155,2) -> 470.54 | N155: znížená | O155: 0 | P155: =O155*H155 -> 0 | Q155: 0 | R155: =Q155*H155 -> 0 | S155: 0 | T155: =S155*H155 -> 0 | AR155: 4 | AT155: K | AU155: 2 | AY155: ROZPOCET | BE155: =IF(N155="základná",J155,0) -> 0 | BF155: =IF(N155="znížená",J155,0) -> 470.54 | BG155: =IF(N155="zákl. prenesená",J155,0) -> 0 | BH155: =IF(N155="zníž. prenesená",J155,0) -> 0 | BI155: =IF(N155="nulová",J155,0) -> 0 | BJ155: 2 | BK155: =ROUND(I155*H155,2) -> 470.54 | BL155: 4 | BM155: 44
D156: D | E156: 99 | F156: Presun hmôt HSV | J156: =BK156 -> 243.38 | P156: =P157 -> 0 | R156: =R157 -> 0 | T156: =T157 -> 0 | AR156: 1 | AT156: D | AU156: 1 | AY156: ROZPOCET | BK156: =BK157 -> 243.38
C157: 42 | D157: K | E157: 999281111.S | F157: Presun hmôt pre opravy a údržbu objektov vrátane vonkajších plášťov výšky do 25 m | G157: t | H157: 5.016 | I157: 48.52 | J157: =ROUND(I157*H157,2) -> 243.38 | N157: znížená | O157: 0 | P157: =O157*H157 -> 0 | Q157: 0 | R157: =Q157*H157 -> 0 | S157: 0 | T157: =S157*H157 -> 0 | AR157: 4 | AT157: K | AU157: 2 | AY157: ROZPOCET | BE157: =IF(N157="základná",J157,0) -> 0 | BF157: =IF(N157="znížená",J157,0) -> 243.38 | BG157: =IF(N157="zákl. prenesená",J157,0) -> 0 | BH157: =IF(N157="zníž. prenesená",J157,0) -> 0 | BI157: =IF(N157="nulová",J157,0) -> 0 | BJ157: 2 | BK157: =ROUND(I157*H157,2) -> 243.38 | BL157: 4 | BM157: 46
D158: D | E158: PSV | F158: Práce a dodávky PSV | J158: =BK158 -> 9985.28 | P158: =P159+P163+P170+P174+P178 -> 0 | R158: =R159+R163+R170+R174+R178 -> 0 | T158: =T159+T163+T170+T174+T178 -> 0 | AR158: 2 | AT158: D | AU158: 0 | AY158: ROZPOCET | BK158: =BK159+BK163+BK170+BK174+BK178 -> 9985.28
D159: D | E159: 763 | F159: Konštrukcie - drevostavby | J159: =BK159 -> 803.91 | P159: =SUM(P160:P162) -> 0 | R159: =SUM(R160:R162) -> 0 | T159: =SUM(T160:T162) -> 0 | AR159: 2 | AT159: D | AU159: 1 | AY159: ROZPOCET | BK159: =SUM(BK160:BK162) -> 803.91
C160: 25 | D160: K | E160: 763120010.S | F160: Sadrokartónová inštalačná predstena pre sanitárne zariadenia, kca CD+UD, jednoducho opláštená doskou impregnovanou H2 12,5 mm | G160: m2 | H160: 6.815 | I160: 41.35 | J160: =ROUND(I160*H160,2) -> 281.8 | N160: znížená | O160: 0 | P160: =O160*H160 -> 0 | Q160: 0 | R160: =Q160*H160 -> 0 | S160: 0 | T160: =S160*H160 -> 0 | AR160: 16 | AT160: K | AU160: 2 | AY160: ROZPOCET | BE160: =IF(N160="základná",J160,0) -> 0 | BF160: =IF(N160="znížená",J160,0) -> 281.8 | BG160: =IF(N160="zákl. prenesená",J160,0) -> 0 | BH160: =IF(N160="zníž. prenesená",J160,0) -> 0 | BI160: =IF(N160="nulová",J160,0) -> 0 | BJ160: 2 | BK160: =ROUND(I160*H160,2) -> 281.8 | BL160: 16 | BM160: 48
C161: 24 | D161: K | E161: 763138222.S | F161: Podhľad SDK závesný na dvojúrovňovej oceľovej podkonštrukcií CD+UD, doska impregnovaná H2 12.5 mm | G161: m2 | H161: 15.634 | I161: 32.21 | J161: =ROUND(I161*H161,2) -> 503.57 | N161: znížená | O161: 0 | P161: =O161*H161 -> 0 | Q161: 0 | R161: =Q161*H161 -> 0 | S161: 0 | T161: =S161*H161 -> 0 | AR161: 16 | AT161: K | AU161: 2 | AY161: ROZPOCET | BE161: =IF(N161="základná",J161,0) -> 0 | BF161: =IF(N161="znížená",J161,0) -> 503.57 | BG161: =IF(N161="zákl. prenesená",J161,0) -> 0 | BH161: =IF(N161="zníž. prenesená",J161,0) -> 0 | BI161: =IF(N161="nulová",J161,0) -> 0 | BJ161: 2 | BK161: =ROUND(I161*H161,2) -> 503.57 | BL161: 16 | BM161: 50
C162: 41 | D162: K | E162: 998763301.S | F162: Presun hmôt pre sadrokartónové konštrukcie v objektoch výšky do 7 m | G162: t | H162: 0.271 | I162: 68.42 | J162: =ROUND(I162*H162,2) -> 18.54 | N162: znížená | O162: 0 | P162: =O162*H162 -> 0 | Q162: 0 | R162: =Q162*H162 -> 0 | S162: 0 | T162: =S162*H162 -> 0 | AR162: 16 | AT162: K | AU162: 2 | AY162: ROZPOCET | BE162: =IF(N162="základná",J162,0) -> 0 | BF162: =IF(N162="znížená",J162,0) -> 18.54 | BG162: =IF(N162="zákl. prenesená",J162,0) -> 0 | BH162: =IF(N162="zníž. prenesená",J162,0) -> 0 | BI162: =IF(N162="nulová",J162,0) -> 0 | BJ162: 2 | BK162: =ROUND(I162*H162,2) -> 18.54 | BL162: 16 | BM162: 52
D163: D | E163: 766 | F163: Konštrukcie stolárske | J163: =BK163 -> 2735.14 | P163: =SUM(P164:P169) -> 0 | R163: =SUM(R164:R169) -> 0 | T163: =SUM(T164:T169) -> 0 | AR163: 2 | AT163: D | AU163: 1 | AY163: ROZPOCET | BK163: =SUM(BK164:BK169) -> 2735.14
C164: 34 | D164: K | E164: 766662112.S | F164: Montáž dverového krídla otočného jednokrídlového poldrážkového, do existujúcej zárubne, vrátane kovania | G164: ks | H164: 7 | I164: 26.83 | J164: =ROUND(I164*H164,2) -> 187.81 | N164: znížená | O164: 0 | P164: =O164*H164 -> 0 | Q164: 0 | R164: =Q164*H164 -> 0 | S164: 0 | T164: =S164*H164 -> 0 | AR164: 16 | AT164: K | AU164: 2 | AY164: ROZPOCET | BE164: =IF(N164="základná",J164,0) -> 0 | BF164: =IF(N164="znížená",J164,0) -> 187.81 | BG164: =IF(N164="zákl. prenesená",J164,0) -> 0 | BH164: =IF(N164="zníž. prenesená",J164,0) -> 0 | BI164: =IF(N164="nulová",J164,0) -> 0 | BJ164: 2 | BK164: =ROUND(I164*H164,2) -> 187.81 | BL164: 16 | BM164: 54
C165: 35 | D165: M | E165: 549150000600.S | F165: Kľučka dverová a rozeta 2x, nehrdzavejúca oceľ, povrch nerez brúsený | G165: ks | H165: 7 | I165: 23.1 | J165: =ROUND(I165*H165,2) -> 161.7 | N165: znížená | O165: 0 | P165: =O165*H165 -> 0 | Q165: 0 | R165: =Q165*H165 -> 0 | S165: 0 | T165: =S165*H165 -> 0 | AR165: 32 | AT165: M | AU165: 2 | AY165: ROZPOCET | BE165: =IF(N165="základná",J165,0) -> 0 | BF165: =IF(N165="znížená",J165,0) -> 161.7 | BG165: =IF(N165="zákl. prenesená",J165,0) -> 0 | BH165: =IF(N165="zníž. prenesená",J165,0) -> 0 | BI165: =IF(N165="nulová",J165,0) -> 0 | BJ165: 2 | BK165: =ROUND(I165*H165,2) -> 161.7 | BL165: 16 | BM165: 56
C166: 36 | D166: M | E166: 611610000400.S | F166: Dvere vnútorné jednokrídlové, šírka 600-900 mm, výplň papierová voština, povrch fólia, plné | G166: ks | H166: 7 | I166: 137.83 | J166: =ROUND(I166*H166,2) -> 964.81 | N166: znížená | O166: 0 | P166: =O166*H166 -> 0 | Q166: 0 | R166: =Q166*H166 -> 0 | S166: 0 | T166: =S166*H166 -> 0 | AR166: 32 | AT166: M | AU166: 2 | AY166: ROZPOCET | BE166: =IF(N166="základná",J166,0) -> 0 | BF166: =IF(N166="znížená",J166,0) -> 964.81 | BG166: =IF(N166="zákl. prenesená",J166,0) -> 0 | BH166: =IF(N166="zníž. prenesená",J166,0) -> 0 | BI166: =IF(N166="nulová",J166,0) -> 0 | BJ166: 2 | BK166: =ROUND(I166*H166,2) -> 964.81 | BL166: 16 | BM166: 58
...

Sheet 4 - Zdravotechnika
L2: >> skryté stĺpce << | AT2: {df5aeaa3-b9a3-4d93-94ef-42911a3636c2}
AT3: 0
D4: KRYCÍ LIST ROZPOČTU | M4: v --- nižšie sa nachádzajú doplnkové a pomocné údaje k zostavám --- v | AT4: False
D6: Stavba:
E7: ='Rekapitulácia stavby'!K6 -> Kópia - 20240118 - Stavebné úpravy priestorov kultúrneho domu
D8: Objekt:
E9: 4 - Zdravotechnika
D11: JKSO: | I11: KS:
D12: Miesto: | I12: Dátum: | J12: ='Rekapitulácia stavby'!AN8 -> 45646
D14: Objednávateľ: | I14: IČO: | J14: =IF('Rekapitulácia stavby'!AN10="","",'Rekapitulácia stavby'!AN10)
E15: =IF('Rekapitulácia stavby'!E11="","",'Rekapitulácia stavby'!E11) | I15: IČ DPH: | J15: =IF('Rekapitulácia stavby'!AN11="","",'Rekapitulácia stavby'!AN11)
D17: Zhotoviteľ: | I17: IČO: | J17: ='Rekapitulácia stavby'!AN13 -> 46114696
E18: ='Rekapitulácia stavby'!E14 -> BETA FOUR s.r.o. | I18: IČ DPH: | J18: ='Rekapitulácia stavby'!AN14 -> SK2023241880
D20: Projektant: | I20: IČO: | J20: =IF('Rekapitulácia stavby'!AN16="","",'Rekapitulácia stavby'!AN16)
E21: =IF('Rekapitulácia stavby'!E17="","",'Rekapitulácia stavby'!E17) | I21: IČ DPH: | J21: =IF('Rekapitulácia stavby'!AN17="","",'Rekapitulácia stavby'!AN17)
D23: Spracovateľ: | I23: IČO: | J23: =IF('Rekapitulácia stavby'!AN19="","",'Rekapitulácia stavby'!AN19)
E24: =IF('Rekapitulácia stavby'!E20="","",'Rekapitulácia stavby'!E20) -> Peter Lesák | I24: IČ DPH: | J24: =IF('Rekapitulácia stavby'!AN20="","",'Rekapitulácia stavby'!AN20)
D26: Poznámka:
D30: Cena bez DPH | J30: =ROUND(J124, 2) -> 5991.9
F32: Základ dane | I32: Sadzba dane | J32: Výška dane
D33: DPH | E33: základná | F33: =ROUND((SUM(BE124:BE186)), 2) -> 0 | I33: 0.2 | J33: =ROUND(((SUM(BE124:BE186))*I33), 2) -> 0
E34: znížená | F34: =ROUND((SUM(BF124:BF186)), 2) -> 5991.9 | I34: 0.2 | J34: =ROUND(((SUM(BF124:BF186))*I34), 2) -> 1198.38
E35: zákl. prenesená | F35: =ROUND((SUM(BG124:BG186)), 2) -> 0 | I35: 0.2 | J35: =0 -> 0
E36: zníž. prenesená | F36: =ROUND((SUM(BH124:BH186)), 2) -> 0 | I36: 0.2 | J36: =0 -> 0
E37: nulová | F37: =ROUND((SUM(BI124:BI186)), 2) -> 0 | I37: 0 | J37: =0 -> 0
D39: Cena s DPH | G39: v | H39: EUR | J39: =SUM(J30:J37) -> 7190.28
D50: Projektant | G50: Spracovateľ
D61: Dátum a podpis: | F61: Pečiatka | G61: Dátum a podpis: | J61: Pečiatka
D65: Objednávateľ | G65: Zhotoviteľ
D76: Dátum a podpis: | F76: Pečiatka | G76: Dátum a podpis: | J76: Pečiatka
C82: REKAPITULÁCIA ROZPOČTU
C84: Stavba:
E85: =E7 -> Kópia - 20240118 - Stavebné úpravy priestorov kultúrneho domu
C86: Objekt:
E87: =E9 -> 4 - Zdravotechnika
C89: Miesto: | F89: =F12 | I89: Dátum: | J89: =IF(J12="","",J12) -> 45646
C91: Objednávateľ: | F91: =E15 | I91: Projektant: | J91: =E21
C92: Zhotoviteľ: | F92: =IF(E18="","",E18) -> BETA FOUR s.r.o. | I92: Spracovateľ: | J92: =E24 -> Peter Lesák
C94: Kód dielu - Popis | J94: Cena celkom [EUR]
C96: Náklady z rozpočtu | J96: =J124 -> 5991.9 | AU96: -1
D97: HSV - Práce a dodávky HSV | J97: =J125 -> 222.83
D98: 9 - Ostatné konštrukcie a práce-búranie | J98: =J126 -> 222.83
D99: PSV - Práce a dodávky PSV | J99: =J132 -> 5676.22
D100: 713 - Izolácie tepelné | J100: =J133 -> 88.6
D101: 721 - Zdravotech. vnútorná kanalizácia | J101: =J137 -> 368.11
D102: 722 - Zdravotechnika - vnútorný vodovod | J102: =J146 -> 558.08
D103: 725 - Zdravotechnika - zariaďovacie predmety | J103: =J156 -> 4661.43
D104: HZS - Hodinové zúčtovacie sadzby | J104: =J185 -> 92.85
C111: ROZPOČET
C113: Stavba:
E114: =E7 -> Kópia - 20240118 - Stavebné úpravy priestorov kultúrneho domu
C115: Objekt:
E116: =E9 -> 4 - Zdravotechnika
C118: Miesto: | F118: =F12 | I118: Dátum: | J118: =IF(J12="","",J12) -> 45646
C120: Objednávateľ: | F120: =E15 | I120: Projektant: | J120: =E21
C121: Zhotoviteľ: | F121: =IF(E18="","",E18) -> BETA FOUR s.r.o. | I121: Spracovateľ: | J121: =E24 -> Peter Lesák
C123: PČ | D123: Typ | E123: Kód | F123: Popis | G123: MJ | H123: Množstvo | I123: J.cena [EUR] | J123: Cena celkom [EUR] | K123: Cenová sústava | N123: DPH | O123: J. Nh [h] | P123: Nh celkom [h] | Q123: J. hmotnosť [t] | R123: Hmotnosť celkom [t] | S123: J. suť [t] | T123: Suť Celkom [t]
C124: Náklady z rozpočtu | J124: =BK124 -> 5991.9 | P124: =P125+P132+P185 -> 4.07417 | R124: =R125+R132+R185 -> 0.00152 | T124: =T125+T132+T185 -> 0 | AT124: D | AU124: -1 | BK124: =BK125+BK132+BK185 -> 5991.9
D125: D | E125: HSV | F125: Práce a dodávky HSV | J125: =BK125 -> 222.83 | P125: =P126 -> 0 | R125: =R126 -> 0 | T125: =T126 -> 0 | AR125: 1 | AT125: D | AU125: 0 | AY125: ROZPOCET | BK125: =BK126 -> 222.83
D126: D | E126: 9 | F126: Ostatné konštrukcie a práce-búranie | J126: =BK126 -> 222.83 | P126: =SUM(P127:P131) -> 0 | R126: =SUM(R127:R131) -> 0 | T126: =SUM(T127:T131) -> 0 | AR126: 1 | AT126: D | AU126: 1 | AY126: ROZPOCET | BK126: =SUM(BK127:BK131) -> 222.83
C127: 1 | D127: K | E127: 974031164.S | F127: Vysekávanie rýh v akomkoľvek murive tehlovom na akúkoľvek maltu do hĺbky 150 mm a š. do 150 mm, -0,04000t | G127: m | H127: 16 | I127: 9.31 | J127: =ROUND(I127*H127,2) -> 148.96 | N127: znížená | O127: 0 | P127: =O127*H127 -> 0 | Q127: 0 | R127: =Q127*H127 -> 0 | S127: 0 | T127: =S127*H127 -> 0 | AR127: 4 | AT127: K | AU127: 2 | AY127: ROZPOCET | BE127: =IF(N127="základná",J127,0) -> 0 | BF127: =IF(N127="znížená",J127,0) -> 148.96 | BG127: =IF(N127="zákl. prenesená",J127,0) -> 0 | BH127: =IF(N127="zníž. prenesená",J127,0) -> 0 | BI127: =IF(N127="nulová",J127,0) -> 0 | BJ127: 2 | BK127: =ROUND(I127*H127,2) -> 148.96 | BL127: 4 | BM127: 2
C128: 2 | D128: K | E128: 979081111.S | F128: Odvoz sutiny a vybúraných hmôt na skládku do 1 km | G128: t | H128: 0.752 | I128: 16.68 | J128: =ROUND(I128*H128,2) -> 12.54 | N128: znížená | O128: 0 | P128: =O128*H128 -> 0 | Q128: 0 | R128: =Q128*H128 -> 0 | S128: 0 | T128: =S128*H128 -> 0 | AR128: 4 | AT128: K | AU128: 2 | AY128: ROZPOCET | BE128: =IF(N128="základná",J128,0) -> 0 | BF128: =IF(N128="znížená",J128,0) -> 12.54 | BG128: =IF(N128="zákl. prenesená",J128,0) -> 0 | BH128: =IF(N128="zníž. prenesená",J128,0) -> 0 | BI128: =IF(N128="nulová",J128,0) -> 0 | BJ128: 2 | BK128: =ROUND(I128*H128,2) -> 12.54 | BL128: 4 | BM128: 4
C129: 3 | D129: K | E129: 979081121.S | F129: Odvoz sutiny a vybúraných hmôt na skládku za každý ďalší 1 km | G129: t | H129: 0.752 | I129: 0.5 | J129: =ROUND(I129*H129,2) -> 0.38 | N129: znížená | O129: 0 | P129: =O129*H129 -> 0 | Q129: 0 | R129: =Q129*H129 -> 0 | S129: 0 | T129: =S129*H129 -> 0 | AR129: 4 | AT129: K | AU129: 2 | AY129: ROZPOCET | BE129: =IF(N129="základná",J129,0) -> 0 | BF129: =IF(N129="znížená",J129,0) -> 0.38 | BG129: =IF(N129="zákl. prenesená",J129,0) -> 0 | BH129: =IF(N129="zníž. prenesená",J129,0) -> 0 | BI129: =IF(N129="nulová",J129,0) -> 0 | BJ129: 2 | BK129: =ROUND(I129*H129,2) -> 0.38 | BL129: 4 | BM129: 6
C130: 4 | D130: K | E130: 979082111.S | F130: Vnútrostavenisková doprava sutiny a vybúraných hmôt do 10 m | G130: t | H130: 0.752 | I130: 14.05 | J130: =ROUND(I130*H130,2) -> 10.57 | N130: znížená | O130: 0 | P130: =O130*H130 -> 0 | Q130: 0 | R130: =Q130*H130 -> 0 | S130: 0 | T130: =S130*H130 -> 0 | AR130: 4 | AT130: K | AU130: 2 | AY130: ROZPOCET | BE130: =IF(N130="základná",J130,0) -> 0 | BF130: =IF(N130="znížená",J130,0) -> 10.57 | BG130: =IF(N130="zákl. prenesená",J130,0) -> 0 | BH130: =IF(N130="zníž. prenesená",J130,0) -> 0 | BI130: =IF(N130="nulová",J130,0) -> 0 | BJ130: 2 | BK130: =ROUND(I130*H130,2) -> 10.57 | BL130: 4 | BM130: 8
C131: 5 | D131: K | E131: 979089012.S | F131: Poplatok za skladovanie - betón, tehly, dlaždice (17 01) ostatné | G131: t | H131: 0.752 | I131: 67 | J131: =ROUND(I131*H131,2) -> 50.38 | N131: znížená | O131: 0 | P131: =O131*H131 -> 0 | Q131: 0 | R131: =Q131*H131 -> 0 | S131: 0 | T131: =S131*H131 -> 0 | AR131: 4 | AT131: K | AU131: 2 | AY131: ROZPOCET | BE131: =IF(N131="základná",J131,0) -> 0 | BF131: =IF(N131="znížená",J131,0) -> 50.38 | BG131: =IF(N131="zákl. prenesená",J131,0) -> 0 | BH131: =IF(N131="zníž. prenesená",J131,0) -> 0 | BI131: =IF(N131="nulová",J131,0) -> 0 | BJ131: 2 | BK131: =ROUND(I131*H131,2) -> 50.38 | BL131: 4 | BM131: 10
D132: D | E132: PSV | F132: Práce a dodávky PSV | J132: =BK132 -> 5676.22 | P132: =P133+P137+P146+P156 -> 4.07417 | R132: =R133+R137+R146+R156 -> 0.00152 | T132: =T133+T137+T146+T156 -> 0 | AR132: 2 | AT132: D | AU132: 0 | AY132: ROZPOCET | BK132: =BK133+BK137+BK146+BK156 -> 5676.22
D133: D | E133: 713 | F133: Izolácie tepelné | J133: =BK133 -> 88.6 | P133: =SUM(P134:P136) -> 0 | R133: =SUM(R134:R136) -> 0 | T133: =SUM(T134:T136) -> 0 | AR133: 2 | AT133: D | AU133: 1 | AY133: ROZPOCET | BK133: =SUM(BK134:BK136) -> 88.6
C134: 6 | D134: K | E134: 713482305 | F134: Montaž trubíc TUBOLIT DG hr. do 13 mm, | G134: m | H134: 20 | I134: 3.4 | J134: =ROUND(I134*H134,2) -> 68 | N134: znížená | O134: 0 | P134: =O134*H134 -> 0 | Q134: 0 | R134: =Q134*H134 -> 0 | S134: 0 | T134: =S134*H134 -> 0 | AR134: 16 | AT134: K | AU134: 2 | AY134: ROZPOCET | BE134: =IF(N134="základná",J134,0) -> 0 | BF134: =IF(N134="znížená",J134,0) -> 68 | BG134: =IF(N134="zákl. prenesená",J134,0) -> 0 | BH134: =IF(N134="zníž. prenesená",J134,0) -> 0 | BI134: =IF(N134="nulová",J134,0) -> 0 | BJ134: 2 | BK134: =ROUND(I134*H134,2) -> 68 | BL134: 16 | BM134: 12
C135: 7 | D135: M | E135: 283310002900 | F135: Izolačná PE trubica TUBOLIT DG 22x13 mm (d potrubia x hr. izolácie), nadrezaná, AZ FLEX | G135: m | H135: 20 | I135: 1.03 | J135: =ROUND(I135*H135,2) -> 20.6 | N135: znížená | O135: 0 | P135: =O135*H135 -> 0 | Q135: 0 | R135: =Q135*H135 -> 0 | S135: 0 | T135: =S135*H135 -> 0 | AR135: 32 | AT135: M | AU135: 2 | AY135: ROZPOCET | BE135: =IF(N135="základná",J135,0) -> 0 | BF135: =IF(N135="znížená",J135,0) -> 20.6 | BG135: =IF(N135="zákl. prenesená",J135,0) -> 0 | BH135: =IF(N135="zníž. prenesená",J135,0) -> 0 | BI135: =IF(N135="nulová",J135,0) -> 0 | BJ135: 2 | BK135: =ROUND(I135*H135,2) -> 20.6 | BL135: 16 | BM135: 14
C136: 8 | D136: K | E136: 998713201.S | F136: Presun hmôt pre izolácie tepelné v objektoch výšky do 6 m | G136: % | H136: 0 | I136: 1.3 | J136: =ROUND(I136*H136,2) -> 0 | N136: znížená | O136: 0 | P136: =O136*H136 -> 0 | Q136: 0 | R136: =Q136*H136 -> 0 | S136: 0 | T136: =S136*H136 -> 0 | AR136: 16 | AT136: K | AU136: 2 | AY136: ROZPOCET | BE136: =IF(N136="základná",J136,0) -> 0 | BF136: =IF(N136="znížená",J136,0) -> 0 | BG136: =IF(N136="zákl. prenesená",J136,0) -> 0 | BH136: =IF(N136="zníž. prenesená",J136,0) -> 0 | BI136: =IF(N136="nulová",J136,0) -> 0 | BJ136: 2 | BK136: =ROUND(I136*H136,2) -> 0 | BL136: 16 | BM136: 16
D137: D | E137: 721 | F137: Zdravotech. vnútorná kanalizácia | J137: =BK137 -> 368.11 | P137: =SUM(P138:P145) -> 0 | R137: =SUM(R138:R145) -> 0 | T137: =SUM(T138:T145) -> 0 | AR137: 2 | AT137: D | AU137: 1 | AY137: ROZPOCET | BK137: =SUM(BK138:BK145) -> 368.11
C138: 9 | D138: K | E138: 721171803.S | F138: Demontáž potrubia z PVC-U rúr odpadového alebo pripojovacieho do D 75 mm, -0,00156 t | G138: m | H138: 5 | I138: 0.6 | J138: =ROUND(I138*H138,2) -> 3 | N138: znížená | O138: 0 | P138: =O138*H138 -> 0 | Q138: 0 | R138: =Q138*H138 -> 0 | S138: 0 | T138: =S138*H138 -> 0 | AR138: 16 | AT138: K | AU138: 2 | AY138: ROZPOCET | BE138: =IF(N138="základná",J138,0) -> 0 | BF138: =IF(N138="znížená",J138,0) -> 3 | BG138: =IF(N138="zákl. prenesená",J138,0) -> 0 | BH138: =IF(N138="zníž. prenesená",J138,0) -> 0 | BI138: =IF(N138="nulová",J138,0) -> 0 | BJ138: 2 | BK138: =ROUND(I138*H138,2) -> 3 | BL138: 16 | BM138: 18
C139: 10 | D139: K | E139: 721171808.S | F139: Demontáž potrubia z PVC-U rúr odpadového alebo pripojovacieho nad D 75 mm - D 114 mm, -0,00198 t | G139: m | H139: 2 | I139: 1.6 | J139: =ROUND(I139*H139,2) -> 3.2 | N139: znížená | O139: 0 | P139: =O139*H139 -> 0 | Q139: 0 | R139: =Q139*H139 -> 0 | S139: 0 | T139: =S139*H139 -> 0 | AR139: 16 | AT139: K | AU139: 2 | AY139: ROZPOCET | BE139: =IF(N139="základná",J139,0) -> 0 | BF139: =IF(N139="znížená",J139,0) -> 3.2 | BG139: =IF(N139="zákl. prenesená",J139,0) -> 0 | BH139: =IF(N139="zníž. prenesená",J139,0) -> 0 | BI139: =IF(N139="nulová",J139,0) -> 0 | BJ139: 2 | BK139: =ROUND(I139*H139,2) -> 3.2 | BL139: 16 | BM139: 20
C140: 11 | D140: K | E140: 721172011.S | F140: Potrubie odpadové HT z PP, vodorovné DN 50 | G140: m | H140: 6 | I140: 19.72 | J140: =ROUND(I140*H140,2) -> 118.32 | N140: znížená | O140: 0 | P140: =O140*H140 -> 0 | Q140: 0 | R140: =Q140*H140 -> 0 | S140: 0 | T140: =S140*H140 -> 0 | AR140: 16 | AT140: K | AU140: 2 | AY140: ROZPOCET | BE140: =IF(N140="základná",J140,0) -> 0 | BF140: =IF(N140="znížená",J140,0) -> 118.32 | BG140: =IF(N140="zákl. prenesená",J140,0) -> 0 | BH140: =IF(N140="zníž. prenesená",J140,0) -> 0 | BI140: =IF(N140="nulová",J140,0) -> 0 | BJ140: 2 | BK140: =ROUND(I140*H140,2) -> 118.32 | BL140: 16 | BM140: 22
C141: 12 | D141: K | E141: 721172013.S | F141: Potrubie odpadové HT z PP, vodorovné DN 110 | G141: m | H141: 5 | I141: 26.3 | J141: =ROUND(I141*H141,2) -> 131.5 | N141: znížená | O141: 0 | P141: =O141*H141 -> 0 | Q141: 0 | R141: =Q141*H141 -> 0 | S141: 0 | T141: =S141*H141 -> 0 | AR141: 16 | AT141: K | AU141: 2 | AY141: ROZPOCET | BE141: =IF(N141="základná",J141,0) -> 0 | BF141: =IF(N141="znížená",J141,0) -> 131.5 | BG141: =IF(N141="zákl. prenesená",J141,0) -> 0 | BH141: =IF(N141="zníž. prenesená",J141,0) -> 0 | BI141: =IF(N141="nulová",J141,0) -> 0 | BJ141: 2 | BK141: =ROUND(I141*H141,2) -> 131.5 | BL141: 16 | BM141: 24
C142: 13 | D142: K | E142: 721194105.S | F142: Zriadenie prípojky na potrubí vyvedenie a upevnenie odpadových výpustiek D 50 mm | G142: ks | H142: 7 | I142: 4.18 | J142: =ROUND(I142*H142,2) -> 29.26 | N142: znížená | O142: 0 | P142: =O142*H142 -> 0 | Q142: 0 | R142: =Q142*H142 -> 0 | S142: 0 | T142: =S142*H142 -> 0 | AR142: 16 | AT142: K | AU142: 2 | AY142: ROZPOCET | BE142: =IF(N142="základná",J142,0) -> 0 | BF142: =IF(N142="znížená",J142,0) -> 29.26 | BG142: =IF(N142="zákl. prenesená",J142,0) -> 0 | BH142: =IF(N142="zníž. prenesená",J142,0) -> 0 | BI142: =IF(N142="nulová",J142,0) -> 0 | BJ142: 2 | BK142: =ROUND(I142*H142,2) -> 29.26 | BL142: 16 | BM142: 26
C143: 14 | D143: K | E143: 721194109.S | F143: Zriadenie prípojky na potrubí vyvedenie a upevnenie odpadových výpustiek D 110 mm | G143: ks | H143: 5 | I143: 6.19 | J143: =ROUND(I143*H143,2) -> 30.95 | N143: znížená | O143: 0 | P143: =O143*H143 -> 0 | Q143: 0 | R143: =Q143*H143 -> 0 | S143: 0 | T143: =S143*H143 -> 0 | AR143: 16 | AT143: K | AU143: 2 | AY143: ROZPOCET | BE143: =IF(N143="základná",J143,0) -> 0 | BF143: =IF(N143="znížená",J143,0) -> 30.95 | BG143: =IF(N143="zákl. prenesená",J143,0) -> 0 | BH143: =IF(N143="zníž. prenesená",J143,0) -> 0 | BI143: =IF(N143="nulová",J143,0) -> 0 | BJ143: 2 | BK143: =ROUND(I143*H143,2) -> 30.95 | BL143: 16 | BM143: 28
C144: 15 | D144: K | E144: 721220801.S | F144: Demontáž zápachovej uzávierky do DN 70, -0,00310t | G144: ks | H144: 5 | I144: 6.02 | J144: =ROUND(I144*H144,2) -> 30.1 | N144: znížená | O144: 0 | P144: =O144*H144 -> 0 | Q144: 0 | R144: =Q144*H144 -> 0 | S144: 0 | T144: =S144*H144 -> 0 | AR144: 16 | AT144: K | AU144: 2 | AY144: ROZPOCET | BE144: =IF(N144="základná",J144,0) -> 0 | BF144: =IF(N144="znížená",J144,0) -> 30.1 | BG144: =IF(N144="zákl. prenesená",J144,0) -> 0 | BH144: =IF(N144="zníž. prenesená",J144,0) -> 0 | BI144: =IF(N144="nulová",J144,0) -> 0 | BJ144: 2 | BK144: =ROUND(I144*H144,2) -> 30.1 | BL144: 16 | BM144: 30
C145: 16 | D145: K | E145: 892311000 | F145: Skúška tesnosti kanalizácie D 150 | G145: m | H145: 11 | I145: 1.98 | J145: =ROUND(I145*H145,2) -> 21.78 | N145: znížená | O145: 0 | P145: =O145*H145 -> 0 | Q145: 0 | R145: =Q145*H145 -> 0 | S145: 0 | T145: =S145*H145 -> 0 | AR145: 16 | AT145: K | AU145: 2 | AY145: ROZPOCET | BE145: =IF(N145="základná",J145,0) -> 0 | BF145: =IF(N145="znížená",J145,0) -> 21.78 | BG145: =IF(N145="zákl. prenesená",J145,0) -> 0 | BH145: =IF(N145="zníž. prenesená",J145,0) -> 0 | BI145: =IF(N145="nulová",J145,0) -> 0 | BJ145: 2 | BK145: =ROUND(I145*H145,2) -> 21.78 | BL145: 16 | BM145: 32
D146: D | E146: 722 | F146: Zdravotechnika - vnútorný vodovod | J146: =BK146 -> 558.08 | P146: =SUM(P147:P155) -> 0 | R146: =SUM(R147:R155) -> 0 | T146: =SUM(T147:T155) -> 0 | AR146: 2 | AT146: D | AU146: 1 | AY146: ROZPOCET | BK146: =SUM(BK147:BK155) -> 558.08
C147: 17 | D147: K | E147: 722131932.S | F147: Oprava vodovodného potrubia závitového prepojenie doterajšieho potrubia DN 20 | G147: ks | H147: 2 | I147: 19.73 | J147: =ROUND(I147*H147,2) -> 39.46 | N147: znížená | O147: 0 | P147: =O147*H147 -> 0 | Q147: 0 | R147: =Q147*H147 -> 0 | S147: 0 | T147: =S147*H147 -> 0 | AR147: 16 | AT147: K | AU147: 2 | AY147: ROZPOCET | BE147: =IF(N147="základná",J147,0) -> 0 | BF147: =IF(N147="znížená",J147,0) -> 39.46 | BG147: =IF(N147="zákl. prenesená",J147,0) -> 0 | BH147: =IF(N147="zníž. prenesená",J147,0) -> 0 | BI147: =IF(N147="nulová",J147,0) -> 0 | BJ147: 2 | BK147: =ROUND(I147*H147,2) -> 39.46 | BL147: 16 | BM147: 34
C148: 18 | D148: K | E148: 722172100.S | F148: Potrubie z plastických rúr PP-R D 20 mm - PN10, polyfúznym zváraním | G148: m | H148: 20 | I148: 10.87 | J148: =ROUND(I148*H148,2) -> 217.4 | N148: znížená | O148: 0 | P148: =O148*H148 -> 0 | Q148: 0 | R148: =Q148*H148 -> 0 | S148: 0 | T148: =S148*H148 -> 0 | AR148: 16 | AT148: K | AU148: 2 | AY148: ROZPOCET | BE148: =IF(N148="základná",J148,0) -> 0 | BF148: =IF(N148="znížená",J148,0) -> 217.4 | BG148: =IF(N148="zákl. prenesená",J148,0) -> 0 | BH148: =IF(N148="zníž. prenesená",J148,0) -> 0 | BI148: =IF(N148="nulová",J148,0) -> 0 | BJ148: 2 | BK148: =ROUND(I148*H148,2) -> 217.4 | BL148: 16 | BM148: 36
C149: 19 | D149: K | E149: 722190401.S | F149: Vyvedenie a upevnenie výpustky DN 20 | G149: ks | H149: 17 | I149: 10.96 | J149: =ROUND(I149*H149,2) -> 186.32 | N149: znížená | O149: 0 | P149: =O149*H149 -> 0 | Q149: 0 | R149: =Q149*H149 -> 0 | S149: 0 | T149: =S149*H149 -> 0 | AR149: 16 | AT149: K | AU149: 2 | AY149: ROZPOCET | BE149: =IF(N149="základná",J149,0) -> 0 | BF149: =IF(N149="znížená",J149,0) -> 186.32 | BG149: =IF(N149="zákl. prenesená",J149,0) -> 0 | BH149: =IF(N149="zníž. prenesená",J149,0) -> 0 | BI149: =IF(N149="nulová",J149,0) -> 0 | BJ149: 2 | BK149: =ROUND(I149*H149,2) -> 186.32 | BL149: 16 | BM149: 38
C150: 20 | D150: K | E150: 722220861.S | F150: Demontáž armatúry závitovej s dvomi závitmi do G 3/4, -0,00053t | G150: ks | H150: 6 | I150: 1.19 | J150: =ROUND(I150*H150,2) -> 7.14 | N150: znížená | O150: 0 | P150: =O150*H150 -> 0 | Q150: 0 | R150: =Q150*H150 -> 0 | S150: 0 | T150: =S150*H150 -> 0 | AR150: 16 | AT150: K | AU150: 2 | AY150: ROZPOCET | BE150: =IF(N150="základná",J150,0) -> 0 | BF150: =IF(N150="znížená",J150,0) -> 7.14 | BG150: =IF(N150="zákl. prenesená",J150,0) -> 0 | BH150: =IF(N150="zníž. prenesená",J150,0) -> 0 | BI150: =IF(N150="nulová",J150,0) -> 0 | BJ150: 2 | BK150: =ROUND(I150*H150,2) -> 7.14 | BL150: 16 | BM150: 40
C151: 21 | D151: K | E151: 722221015.S | F151: Montáž guľového kohúta závitového priameho pre vodu G 3/4 | G151: ks | H151: 2 | I151: 5.57 | J151: =ROUND(I151*H151,2) -> 11.14 | N151: znížená | O151: 0 | P151: =O151*H151 -> 0 | Q151: 0 | R151: =Q151*H151 -> 0 | S151: 0 | T151: =S151*H151 -> 0 | AR151: 16 | AT151: K | AU151: 2 | AY151: ROZPOCET | BE151: =IF(N151="základná",J151,0) -> 0 | BF151: =IF(N151="znížená",J151,0) -> 11.14 | BG151: =IF(N151="zákl. prenesená",J151,0) -> 0 | BH151: =IF(N151="zníž. prenesená",J151,0) -> 0 | BI151: =IF(N151="nulová",J151,0) -> 0 | BJ151: 2 | BK151: =ROUND(I151*H151,2) -> 11.14 | BL151: 16 | BM151: 42
C152: 22 | D152: M | E152: 551110005000.S | F152: Guľový uzáver pre vodu 3/4", niklovaná mosadz | G152: ks | H152: 2 | I152: 12.01 | J152: =ROUND(I152*H152,2) -> 24.02 | N152: znížená | O152: 0 | P152: =O152*H152 -> 0 | Q152: 0 | R152: =Q152*H152 -> 0 | S152: 0 | T152: =S152*H152 -> 0 | AR152: 32 | AT152: M | AU152: 2 | AY152: ROZPOCET | BE152: =IF(N152="základná",J152,0) -> 0 | BF152: =IF(N152="znížená",J152,0) -> 24.02 | BG152: =IF(N152="zákl. prenesená",J152,0) -> 0 | BH152: =IF(N152="zníž. prenesená",J152,0) -> 0 | BI152: =IF(N152="nulová",J152,0) -> 0 | BJ152: 2 | BK152: =ROUND(I152*H152,2) -> 24.02 | BL152: 16 | BM152: 44
C153: 23 | D153: K | E153: 722290226.S | F153: Tlaková skúška vodovodného potrubia závitového do DN 50 | G153: m | H153: 20 | I153: 2.11 | J153: =ROUND(I153*H153,2) -> 42.2 | N153: znížená | O153: 0 | P153: =O153*H153 -> 0 | Q153: 0 | R153: =Q153*H153 -> 0 | S153: 0 | T153: =S153*H153 -> 0 | AR153: 16 | AT153: K | AU153: 2 | AY153: ROZPOCET | BE153: =IF(N153="základná",J153,0) -> 0 | BF153: =IF(N153="znížená",J153,0) -> 42.2 | BG153: =IF(N153="zákl. prenesená",J153,0) -> 0 | BH153: =IF(N153="zníž. prenesená",J153,0) -> 0 | BI153: =IF(N153="nulová",J153,0) -> 0 | BJ153: 2 | BK153: =ROUND(I153*H153,2) -> 42.2 | BL153: 16 | BM153: 46
C154: 24 | D154: K | E154: 722290234.S | F154: Prepláchnutie a dezinfekcia vodovodného potrubia do DN 80 | G154: m | H154: 20 | I154: 1.52 | J154: =ROUND(I154*H154,2) -> 30.4 | N154: znížená | O154: 0 | P154: =O154*H154 -> 0 | Q154: 0 | R154: =Q154*H154 -> 0 | S154: 0 | T154: =S154*H154 -> 0 | AR154: 16 | AT154: K | AU154: 2 | AY154: ROZPOCET | BE154: =IF(N154="základná",J154,0) -> 0 | BF154: =IF(N154="znížená",J154,0) -> 30.4 | BG154: =IF(N154="zákl. prenesená",J154,0) -> 0 | BH154: =IF(N154="zníž. prenesená",J154,0) -> 0 | BI154: =IF(N154="nulová",J154,0) -> 0 | BJ154: 2 | BK154: =ROUND(I154*H154,2) -> 30.4 | BL154: 16 | BM154: 48
C155: 25 | D155: K | E155: 998722201.S | F155: Presun hmôt pre vnútorný vodovod v objektoch výšky do 6 m | G155: % | H155: 0 | I155: 0.7 | J155: =ROUND(I155*H155,2) -> 0 | N155: znížená | O155: 0 | P155: =O155*H155 -> 0 | Q155: 0 | R155: =Q155*H155 -> 0 | S155: 0 | T155: =S155*H155 -> 0 | AR155: 16 | AT155: K | AU155: 2 | AY155: ROZPOCET | BE155: =IF(N155="základná",J155,0) -> 0 | BF155: =IF(N155="znížená",J155,0) -> 0 | BG155: =IF(N155="zákl. prenesená",J155,0) -> 0 | BH155: =IF(N155="zníž. prenesená",J155,0) -> 0 | BI155: =IF(N155="nulová",J155,0) -> 0 | BJ155: 2 | BK155: =ROUND(I155*H155,2) -> 0 | BL155: 16 | BM155: 50
D156: D | E156: 725 | F156: Zdravotechnika - zariaďovacie predmety | J156: =BK156 -> 4661.43 | P156: =SUM(P157:P184) -> 4.07417 | R156: =SUM(R157:R184) -> 0.00152 | T156: =SUM(T157:T184) -> 0 | AR156: 2 | AT156: D | AU156: 1 | AY156: ROZPOCET | BK156: =SUM(BK157:BK184) -> 4661.43
C157: 26 | D157: K | E157: 725110811.S | F157: Demontáž záchoda splachovacieho s nádržou alebo s tlakovým splachovačom, -0,01933t | G157: súb. | H157: 1 | I157: 10.64 | J157: =ROUND(I157*H157,2) -> 10.64 | N157: znížená | O157: 0 | P157: =O157*H157 -> 0 | Q157: 0 | R157: =Q157*H157 -> 0 | S157: 0 | T157: =S157*H157 -> 0 | AR157: 16 | AT157: K | AU157: 2 | AY157: ROZPOCET | BE157: =IF(N157="základná",J157,0) -> 0 | BF157: =IF(N157="znížená",J157,0) -> 10.64 | BG157: =IF(N157="zákl. prenesená",J157,0) -> 0 | BH157: =IF(N157="zníž. prenesená",J157,0) -> 0 | BI157: =IF(N157="nulová",J157,0) -> 0 | BJ157: 2 | BK157: =ROUND(I157*H157,2) -> 10.64 | BL157: 16 | BM157: 52
C158: 27 | D158: K | E158: 725122813.S | F158: Demontáž pisoára s nádržkou a 1 záchodom, -0,01720t | G158: súb. | H158: 1 | I158: 7.83 | J158: =ROUND(I158*H158,2) -> 7.83 | N158: znížená | O158: 0 | P158: =O158*H158 -> 0 | Q158: 0 | R158: =Q158*H158 -> 0 | S158: 0 | T158: =S158*H158 -> 0 | AR158: 16 | AT158: K | AU158: 2 | AY158: ROZPOCET | BE158: =IF(N158="základná",J158,0) -> 0 | BF158: =IF(N158="znížená",J158,0) -> 7.83 | BG158: =IF(N158="zákl. prenesená",J158,0) -> 0 | BH158: =IF(N158="zníž. prenesená",J158,0) -> 0 | BI158: =IF(N158="nulová",J158,0) -> 0 | BJ158: 2 | BK158: =ROUND(I158*H158,2) -> 7.83 | BL158: 16 | BM158: 54
C159: 28 | D159: K | E159: 725129201.S | F159: Montáž pisoáru keramického bez splachovacej nádrže | G159: ks | H159: 2 | I159: 26.34 | J159: =ROUND(I159*H159,2) -> 52.68 | N159: znížená | O159: 0 | P159: =O159*H159 -> 0 | Q159: 0 | R159: =Q159*H159 -> 0 | S159: 0 | T159: =S159*H159 -> 0 | AR159: 16 | AT159: K | AU159: 2 | AY159: ROZPOCET | BE159: =IF(N159="základná",J159,0) -> 0 | BF159: =IF(N159="znížená",J159,0) -> 52.68 | BG159: =IF(N159="zákl. prenesená",J159,0) -> 0 | BH159: =IF(N159="zníž. prenesená",J159,0) -> 0 | BI159: =IF(N159="nulová",J159,0) -> 0 | BJ159: 2 | BK159: =ROUND(I159*H159,2) -> 52.68 | BL159: 16 | BM159: 56
C160: 29 | D160: M | E160: 642510000500 | F160: Pisoár KORINT, rozmer 360x305x470 mm, keramika, JIKA | G160: ks | H160: 2 | I160: 91.41 | J160: =ROUND(I160*H160,2) -> 182.82 | N160: znížená | O160: 0 | P160: =O160*H160 -> 0 | Q160: 0 | R160: =Q160*H160 -> 0 | S160: 0 | T160: =S160*H160 -> 0 | AR160: 32 | AT160: M | AU160: 2 | AY160: ROZPOCET | BE160: =IF(N160="základná",J160,0) -> 0 | BF160: =IF(N160="znížená",J160,0) -> 182.82 | BG160: =IF(N160="zákl. prenesená",J160,0) -> 0 | BH160: =IF(N160="zníž. prenesená",J160,0) -> 0 | BI160: =IF(N160="nulová",J160,0) -> 0 | BJ160: 2 | BK160: =ROUND(I160*H160,2) -> 182.82 | BL160: 16 | BM160: 58
C161: 30 | D161: K | E161: 725149701.S | F161: Montáž predstenového systému záchodov do masívnej murovanej konštrukcie | G161: ks | H161: 5 | I161: 60.91 | J161: =ROUND(I161*H161,2) -> 304.55 | N161: znížená | O161: 0 | P161: =O161*H161 -> 0 | Q161: 0 | R161: =Q161*H161 -> 0 | S161: 0 | T161: =S161*H161 -> 0 | AR161: 16 | AT161: K | AU161: 2 | AY161: ROZPOCET | BE161: =IF(N161="základná",J161,0) -> 0 | BF161: =IF(N161="znížená",J161,0) -> 304.55 | BG161: =IF(N161="zákl. prenesená",J161,0) -> 0 | BH161: =IF(N161="zníž. prenesená",J161,0) -> 0 | BI161: =IF(N161="nulová",J161,0) -> 0 | BJ161: 2 | BK161: =ROUND(I161*H161,2) -> 304.55 | BL161: 16 | BM161: 60
C162: 31 | D162: M | E162: 552370001600.S | F162: Predstenový systém pre závesné WC s podomietkovou nádržou do murovaných alebo betónových konštrukcií | G162: ks | H162: 5 | I162: 308.42 | J162: =ROUND(I162*H162,2) -> 1542.1 | N162: znížená | O162: 0 | P162: =O162*H162 -> 0 | Q162: 0 | R162: =Q162*H162 -> 0 | S162: 0 | T162: =S162*H162 -> 0 | AR162: 32 | AT162: M | AU162: 2 | AY162: ROZPOCET | BE162: =IF(N162="základná",J162,0) -> 0 | BF162: =IF(N162="znížená",J162,0) -> 1542.1 | BG162: =IF(N162="zákl. prenesená",J162,0) -> 0 | BH162: =IF(N162="zníž. prenesená",J162,0) -> 0 | BI162: =IF(N162="nulová",J162,0) -> 0 | BJ162: 2 | BK162: =ROUND(I162*H162,2) -> 1542.1 | BL162: 16 | BM162: 62
C163: 32 | D163: K | E163: 725149720.S | F163: Montáž záchodu do predstenového systému | G163: ks | H163: 5 | I163: 10.12 | J163: =ROUND(I163*H163,2) -> 50.6 | N163: znížená | O163: 0 | P163: =O163*H163 -> 0 | Q163: 0 | R163: =Q163*H163 -> 0 | S163: 0 | T163: =S163*H163 -> 0 | AR163: 16 | AT163: K | AU163: 2 | AY163: ROZPOCET | BE163: =IF(N163="základná",J163,0) -> 0 | BF163: =IF(N163="znížená",J163,0) -> 50.6 | BG163: =IF(N163="zákl. prenesená",J163,0) -> 0 | BH163: =IF(N163="zníž. prenesená",J163,0) -> 0 | BI163: =IF(N163="nulová",J163,0) -> 0 | BJ163: 2 | BK163: =ROUND(I163*H163,2) -> 50.6 | BL163: 16 | BM163: 64
C164: 33 | D164: M | E164: 642360000500.S | F164: Misa záchodová keramická závesná so splachovacím okruhom | G164: ks | H164: 5 | I164: 91.49 | J164: =ROUND(I164*H164,2) -> 457.45 | N164: znížená | O164: 0 | P164: =O164*H164 -> 0 | Q164: 0 | R164: =Q164*H164 -> 0 | S164: 0 | T164: =S164*H164 -> 0 | AR164: 32 | AT164: M | AU164: 2 | AY164: ROZPOCET | BE164: =IF(N164="základná",J164,0) -> 0 | BF164: =IF(N164="znížená",J164,0) -> 457.45 | BG164: =IF(N164="zákl. prenesená",J164,0) -> 0 | BH164: =IF(N164="zníž. prenesená",J164,0) -> 0 | BI164: =IF(N164="nulová",J164,0) -> 0 | BJ164: 2 | BK164: =ROUND(I164*H164,2) -> 457.45 | BL164: 16 | BM164: 66
C165: 34 | D165: K | E165: 725210821.S | F165: Demontáž umývadiel alebo umývadielok bez výtokovej armatúry, -0,01946t | G165: súb. | H165: 1 | I165: 7.03 | J165: =ROUND(I165*H165,2) -> 7.03 | N165: znížená | O165: 0 | P165: =O165*H165 -> 0 | Q165: 0 | R165: =Q165*H165 -> 0 | S165: 0 | T165: =S165*H165 -> 0 | AR165: 16 | AT165: K | AU165: 2 | AY165: ROZPOCET | BE165: =IF(N165="základná",J165,0) -> 0 | BF165: =IF(N165="znížená",J165,0) -> 7.03 | BG165: =IF(N165="zákl. prenesená",J165,0) -> 0 | BH165: =IF(N165="zníž. prenesená",J165,0) -> 0 | BI165: =IF(N165="nulová",J165,0) -> 0 | BJ165: 2 | BK165: =ROUND(I165*H165,2) -> 7.03 | BL165: 16 | BM165: 68
C166: 35 | D166: K | E166: 725219401.S | F166: Montáž umývadla keramického, bez výtokovej armatúry | G166: ks | H166: 5 | I166: 42.34 | J166: =ROUND(I166*H166,2) -> 211.7 | N166: znížená | O166: 0 | P166: =O166*H166 -> 0 | Q166: 0 | R166: =Q166*H166 -> 0 | S166: 0 | T166: =S166*H166 -> 0 | AR166: 16 | AT166: K | AU166: 2 | AY166: ROZPOCET | BE166: =IF(N166="základná",J166,0) -> 0 | BF166: =IF(N166="znížená",J166,0) -> 211.7 | BG166: =IF(N166="zákl. prenesená",J166,0) -> 0 | BH166: =IF(N166="zníž. prenesená",J166,0) -> 0 | BI166: =IF(N166="nulová",J166,0) -> 0 | BJ166: 2 | BK166: =ROUND(I166*H166,2) -> 211.7 | BL166: 16 | BM166: 70
...
